BEGIN:VCALENDAR
VERSION:2.0
PRODID:-//Blowing Rock, NC - ECPv6.15.16//NONSGML v1.0//EN
CALSCALE:GREGORIAN
METHOD:PUBLISH
X-ORIGINAL-URL:https://blowingrock.com
X-WR-CALDESC:Events for Blowing Rock, NC
REFRESH-INTERVAL;VALUE=DURATION:PT1H
X-Robots-Tag:noindex
X-PUBLISHED-TTL:PT1H
BEGIN:VTIMEZONE
TZID:America/Halifax
BEGIN:DAYLIGHT
TZOFFSETFROM:-0400
TZOFFSETTO:-0300
TZNAME:ADT
DTSTART:20240310T060000
END:DAYLIGHT
BEGIN:STANDARD
TZOFFSETFROM:-0300
TZOFFSETTO:-0400
TZNAME:AST
DTSTART:20241103T050000
END:STANDARD
BEGIN:DAYLIGHT
TZOFFSETFROM:-0400
TZOFFSETTO:-0300
TZNAME:ADT
DTSTART:20250309T060000
END:DAYLIGHT
BEGIN:STANDARD
TZOFFSETFROM:-0300
TZOFFSETTO:-0400
TZNAME:AST
DTSTART:20251102T050000
END:STANDARD
BEGIN:DAYLIGHT
TZOFFSETFROM:-0400
TZOFFSETTO:-0300
TZNAME:ADT
DTSTART:20260308T060000
END:DAYLIGHT
BEGIN:STANDARD
TZOFFSETFROM:-0300
TZOFFSETTO:-0400
TZNAME:AST
DTSTART:20261101T050000
END:STANDARD
END:VTIMEZONE
BEGIN:VEVENT
DTSTART;TZID=America/Halifax:20250806T110000
DTEND;TZID=America/Halifax:20251019T180000
DTSTAMP:20260419T165818
CREATED:20250806T151553Z
LAST-MODIFIED:20250808T152536Z
UID:10004603-1754478000-1760896800@blowingrock.com
SUMMARY:Exhibition: Daingerfield & The Tonalist Instinct
DESCRIPTION:Image Credit: Elliot Daingerfield\, Landscape\, undated\, watercolor on paper\, 9 1/4 x 10 3/4 inches; Framed: 19 7/8 x 21 1/4 x 2 inches. On loan from The Johnson Collection\, Spartanburg\, South Carolina \nMay 31 – October 19\, 2025 | Fort Gallery \nDaingerfield & The Tonalist Instinct explores the development of Tonalism\, a distinctly American artistic movement responding to early modernist impulses in painting. Emerging in the latter half of the 19th century\, Tonalism was characterized by subtle color harmonies\, soft atmospheric effects\, and contemplative\, mood-driven scenes. Often emphasizing twilight or dawn landscapes\, tonalist works evoke introspective\, serene\, or even ominous atmospheres\, prioritizing mood and emotional resonance over detailed realism. \nCentral to the exhibition is Elliott Daingerfield (1859–1932)\, one of North Carolina’s most celebrated artists. Daingerfield’s connection to Tonalism is reflected in his expressive interpretations of the Southern landscape\, particularly around Blowing Rock\, where he summered for over four decades. His art is distinguished by poetic subtlety and spiritual undertones—qualities highly valued by tonalist painters. Although Daingerfield resisted a single or dogmatic approach\, Tonalism profoundly shaped his artistic evolution. \nWebsite
URL:https://blowingrock.com/event/exhibition-daingerfield-the-tonalist-instinct/
LOCATION:Blowing Rock Art & History Museum\, 159 Ginny Stevens Lane\, Blowing Rock\, NC\, 28605\, United States
CATEGORIES:Arts,Educational,Fall,Featured,History and Heritage,MAIN CALENDAR,Summer
ATTACH;FMTTYPE=image/jpeg:https://blowingrock.com/wp-content/uploads/2025/07/daingerfieldbrahm.jpg
END:VEVENT
BEGIN:VEVENT
DTSTART;TZID=America/Halifax:20250806T110000
DTEND;TZID=America/Halifax:20251227T180000
DTSTAMP:20260419T165818
CREATED:20250806T150615Z
LAST-MODIFIED:20250806T150615Z
UID:10004602-1754478000-1766858400@blowingrock.com
SUMMARY:Exhibition: The Shape of Color - Understanding Color Theory in BRAHM's Collection
DESCRIPTION:Image Credit: Anne Wall Thomas\, The Way to There\, 2015\, mixed-media on paper\, 26 inches wide x 30 inches high (framed)\, Gift of Mary Wall Garren in honor of Anne Wall Thomas\, BRAHM Permanent Collection 2024.006.001 \nMarch 15 – December 27\, 2025 | Cannon Gallery \nColor is fundamental to human perception\, yet its nature has fascinated and perplexed philosophers\, artists\, and scientists for centuries. Through observation\, experimentation\, and artistic practice\, they have developed theories to define and manipulate color as both a science and a sensation. From Antiquity through the 20th century\, these evolving ideas have shaped how we see and use color in art and design. \nThis exhibition explores key milestones in the history of color theory through seven case studies\, each centered on a single work of art from BRAHM’s Permanent Collection. Alongside these works\, diagrams and historical models illustrate how color has been classified\, studied\, and understood over time. By examining these varied approaches\, The Shape of Color invites us to consider the ways in which color influences our perception\, emotions\, and the visual world around us. \nWebsite
URL:https://blowingrock.com/event/exhibition-the-shape-of-color/
LOCATION:Blowing Rock Art & History Museum\, 159 Ginny Stevens Lane\, Blowing Rock\, NC\, 28605\, United States
CATEGORIES:Arts,Educational,Fall,History and Heritage,MAIN CALENDAR,Summer,Winter
ATTACH;FMTTYPE=image/jpeg:https://blowingrock.com/wp-content/uploads/2025/08/annewallthomas2015.jpg
END:VEVENT
BEGIN:VEVENT
DTSTART;TZID=America/Halifax:20250806T110000
DTEND;TZID=America/Halifax:20251115T180000
DTSTAMP:20260419T165818
CREATED:20250806T152437Z
LAST-MODIFIED:20250806T152437Z
UID:10004604-1754478000-1763229600@blowingrock.com
SUMMARY:Exhibition: Mary Lou Higgins - Sibylline Faces
DESCRIPTION:Image Credit: MaryLou Higgins\, Remembering\, 1993\, Gesso on canvas\, BRAHM Permanent Collection 2024.007.015\, Photographed by Joshua White \nJune 7 – November 15\, 2025 | Schaefer Gallery \nThis exhibiton presents a selection of ceramic works and drawings by MaryLou Higgins (1926–2012)\, an artist active in North Carolina throughout her prolific career. Best known for her illustrative approach to ceramics\, Higgins worked across multiple media\, creating a body of work defined by intricate draftsmanship and a focus on the female figure. \nA voracious illustrator\, Higgins filled the surfaces of her vessels and forms with an evolving repertory of female faces and figures\, rendered with baroque embellishment and a distinct physicality. Often gilded and highly ornamented\, these works foreground the female visage\, as do the elongated or voluptuous silhouettes of the forms themselves. Her drawing practice extended beyond ceramics into works on paper\, canvas\, and handmade furniture\, where her dense\, gestural approach to line and composition further reveals her interest in stylized figuration. \nHiggins often collaborated with her husband\, Edward Higgins\, who at times constructed the ceramic forms she adorned. The figures that populate her work have been compared to the Sibyls—prophetesses of ancient Greece who were believed to articulate divine revelations in rhythmic verse while in a trance. The exaggerated features and expressive gestures of her figures also recall the stylized bodies of late 16th-century Italian\, or Mannerist\, painting\, suggesting an engagement with historical representations of the feminine form. \nWebsite
URL:https://blowingrock.com/event/exhibition-mary-lou-higgins-sibylline-faces/
LOCATION:Blowing Rock Art & History Museum\, 159 Ginny Stevens Lane\, Blowing Rock\, NC\, 28605\, United States
CATEGORIES:Arts,Educational,Fall,History and Heritage,MAIN CALENDAR,Summer
ATTACH;FMTTYPE=image/jpeg:https://blowingrock.com/wp-content/uploads/2025/07/mlhremembering.jpg
END:VEVENT
BEGIN:VEVENT
DTSTART;TZID=America/Halifax:20250806T110000
DTEND;TZID=America/Halifax:20251129T180000
DTSTAMP:20260419T165818
CREATED:20250806T154157Z
LAST-MODIFIED:20250806T160725Z
UID:10004605-1754478000-1764439200@blowingrock.com
SUMMARY:Exhibition: Arlee Mains - A Life in Watauga
DESCRIPTION:Image Credit: Arlee Mains\, Wash Day\, 1997\, acrylic on canvas board. Promised Gift\, Collection of Martha & Terry Satterwhite. \nJune 28 – November 29\, 2025 | Rankin East Gallery \nThis intimate installation of ten “memory paintings” by Arlee Mains (1935–2019) offers a vivid and affectionate portrait of early 20th-century life in the mountains of western North Carolina. A lifelong resident of Watauga County and a self-taught artist\, Mains drew upon family stories\, personal recollections\, and regional traditions to create painted scenes of everyday Appalachian life. Her works portray the rhythms of domestic labor\, childhood mischief\, seasonal rituals\, and communal joy—milking cows at dawn\, dancing on a Saturday night\, or greeting the mailman after a deep snow. Each painting is paired with a handwritten narrative by the artist\, capturing her distinctive voice and grounding these images in lived experience. These stories have been transcribed and recorded by a local community member\, and are available to hear at a listening station in the center of the gallery. Mains’ gift was not just in recalling what happened\, but in conjuring the texture of memory: the smell of lye soap\, the bite of cold air before a sled ride\, the warmth of apple pie after church. \nWebsite
URL:https://blowingrock.com/event/exhibition-arlee-mains-a-life-in-watauga/
LOCATION:NC
CATEGORIES:Arts,Educational,Fall,History and Heritage,MAIN CALENDAR,Summer
ATTACH;FMTTYPE=image/jpeg:https://blowingrock.com/wp-content/uploads/2025/08/wash-day.jpg
END:VEVENT
BEGIN:VEVENT
DTSTART;TZID=America/Halifax:20250911T180000
DTEND;TZID=America/Halifax:20250911T190000
DTSTAMP:20260419T165818
CREATED:20250806T135543Z
LAST-MODIFIED:20250806T135543Z
UID:10004597-1757613600-1757617200@blowingrock.com
SUMMARY:Revisiting the "Brown Decades": Tonalism and the American South
DESCRIPTION:Image Credit: Eliot Clark\, Storm\, Virginia\, undated\, oil on canvas. Support: 6 x 8 1/2 inches; Image: 5 3/4 x 8 inches; Framed: 16 5/8 x 18 1/2 x 2 inches. On Loan from The Johnson Collection\, Spartenburg\, South Carolina. \nFollowing the American Civil War\, American artists quieted their paintings\, embracing blurred contours\, muted palettes\, and introspective atmospheres. Often considered the moody counterpoint to Impressionism’s vibrant and light-filled canvases\, Tonalism offered a harmonious space for respite and reflection in a rapidly changing world. This lecture will explore the foundations of this often-misunderstood artistic movement and how the landscape of the American South became a subject for the art of painting softly. \nWebsite
URL:https://blowingrock.com/event/revisiting-the-brown-decades-tonalism-and-the-american-south/
LOCATION:Blowing Rock Art & History Museum\, 159 Ginny Stevens Lane\, Blowing Rock\, NC\, 28605\, United States
CATEGORIES:Arts,Educational,MAIN CALENDAR,Summer
ATTACH;FMTTYPE=image/webp:https://blowingrock.com/wp-content/uploads/2025/08/clarkeliot-stormvirginiahires.webp
END:VEVENT
BEGIN:VEVENT
DTSTART;TZID=America/Halifax:20250911T190000
DTEND;TZID=America/Halifax:20250911T210000
DTSTAMP:20260419T165818
CREATED:20250807T140815Z
LAST-MODIFIED:20250807T140815Z
UID:10004609-1757617200-1757624400@blowingrock.com
SUMMARY:Antlers & Acorns: Darrell Scott with Ben Danaher
DESCRIPTION:Antlers & Acorns Boone Songwriters Festival presents \nDarrell Scott with Ben Danaher\nThursday\, September 11\, 2025 at 7 PM / Doors open at 6:15 PM\nStandard – $45 \nAll Ages (children under 17 admitted with parent/legal guardian)\nAll Seating is Reserved.\nSales tax and fees applied at checkout \nWebsite & Info
URL:https://blowingrock.com/event/antlers-acorns-darrell-scott-with-ben-danaher/
LOCATION:Appalachian Theatre of the High Country\, 559 West King Street\, Boone\, NC\, 28607\, United States
CATEGORIES:Arts,MAIN CALENDAR,Music,Summer
ATTACH;FMTTYPE=image/jpeg:https://blowingrock.com/wp-content/uploads/2025/08/antlersacorns.jpg
END:VEVENT
BEGIN:VEVENT
DTSTART;TZID=America/Halifax:20250912T140000
DTEND;TZID=America/Halifax:20250912T160000
DTSTAMP:20260419T165818
CREATED:20250807T141530Z
LAST-MODIFIED:20250807T141530Z
UID:10004610-1757685600-1757692800@blowingrock.com
SUMMARY:Antlers & Acorns: Ordinary Elephant
DESCRIPTION:Antlers & Acorns Boone Songwriters Festival presents \nOrdinary Elephant\nMesmerizing folk duo Ordinary Elephant has spent the better part of the last decade on a never-ending tour that’s earned married couple Crystal and Pete Damore widespread critical acclaim and made fans of luminaries like Tom Paxton and Mary Gauthier. In 2017\, the pair took home the International Folk Music Award for Artist of the Year on the strength of their breakout album\, Before I Go\, and two years later\, they returned with the similarly lauded Honest\, which the Associated Press hailed as “one of the best Americana albums of the year.” \nWebsite & Info
URL:https://blowingrock.com/event/antlers-acorns-ordinary-elephant/
LOCATION:Appalachian Theatre of the High Country\, 559 West King Street\, Boone\, NC\, 28607\, United States
CATEGORIES:Arts,Music,Summer
ATTACH;FMTTYPE=image/jpeg:https://blowingrock.com/wp-content/uploads/2025/08/antlersacorns.jpg
END:VEVENT
BEGIN:VEVENT
DTSTART;TZID=America/Halifax:20250912T190000
DTEND;TZID=America/Halifax:20250912T210000
DTSTAMP:20260419T165818
CREATED:20250807T142717Z
LAST-MODIFIED:20250807T142717Z
UID:10004611-1757703600-1757710800@blowingrock.com
SUMMARY:Antlers & Acorns: Mary Gauthier with Jess Klein
DESCRIPTION:Antlers & Acorns Boone Songwriters Festival presents \nMary Gauthier with Jess Klein\nBack for the third time to Antlers & Acorns\, Mary Gauthier is a Grammy-nominated American folk singer/songwriter and author whose dark atmospheres and tales of marginalized people draw on her early experiences with addiction and recovery and growing up gay in Southern Louisiana. \nTickets & Info
URL:https://blowingrock.com/event/antlers-acorns-mary-gauthier-with-jess-klein/
LOCATION:Appalachian Theatre of the High Country\, 559 West King Street\, Boone\, NC\, 28607\, United States
CATEGORIES:Arts,MAIN CALENDAR,Music,Summer
ATTACH;FMTTYPE=image/jpeg:https://blowingrock.com/wp-content/uploads/2025/08/antlersacorns.jpg
END:VEVENT
BEGIN:VEVENT
DTSTART;TZID=America/Halifax:20250913T190000
DTEND;TZID=America/Halifax:20250913T210000
DTSTAMP:20260419T165818
CREATED:20250807T144447Z
LAST-MODIFIED:20250807T144447Z
UID:10004613-1757790000-1757797200@blowingrock.com
SUMMARY:Antlers & Acorns: John Moreland with Mando Saenz
DESCRIPTION:Antlers & Acorns Boone Songwriters Festival presents \nJohn Moreland with Mando Saenz\nJohn Moreland – After an impressive 2010s run of albums that earned him a devoted fanbase\, accolades from outlets like The New York Times\, Fresh Air\, and Pitchfork\, and a place in the upper echelon of modern Americana singer-songwriters\, John Moreland has already taken two unexpected turns this decade\, both of which highlight his fierce artistic independence. \nTickets & Info
URL:https://blowingrock.com/event/antlers-acorns-john-moreland-with-mando-saenz/
LOCATION:Appalachian Theatre of the High Country\, 559 West King Street\, Boone\, NC\, 28607\, United States
CATEGORIES:Arts,MAIN CALENDAR,Music,Summer
ATTACH;FMTTYPE=image/jpeg:https://blowingrock.com/wp-content/uploads/2025/08/antlersacorns.jpg
END:VEVENT
BEGIN:VEVENT
DTSTART;TZID=America/Halifax:20250918T100000
DTEND;TZID=America/Halifax:20250921T160000
DTSTAMP:20260419T165818
CREATED:20250707T135927Z
LAST-MODIFIED:20250707T135927Z
UID:10004571-1758189600-1758470400@blowingrock.com
SUMMARY:Raku Pottery Demonstration
DESCRIPTION:John Turner will demonstrate Raku pottery techniques. This demonstration will be held on the front porch of the the Moses Cone Manor from 10am-4pm. Visitors are encouraged to watch and ask questions while the demonstrators work and talk about their creative process! \nWebsite
URL:https://blowingrock.com/event/raku-pottery-demonstration-2/
LOCATION:Moses Cone Manor\, Blowing Rock\, NC\, 28605\, United States
CATEGORIES:Arts,Educational,Fall,MAIN CALENDAR,Moses Cone
ATTACH;FMTTYPE=image/jpeg:https://blowingrock.com/wp-content/uploads/2024/06/conemanorsunrise_jimruff-scaled.jpg
END:VEVENT
BEGIN:VEVENT
DTSTART;TZID=America/Halifax:20250918T180000
DTEND;TZID=America/Halifax:20250918T190000
DTSTAMP:20260419T165818
CREATED:20250806T140540Z
LAST-MODIFIED:20250806T140540Z
UID:10004598-1758218400-1758222000@blowingrock.com
SUMMARY:"More Magnificent than Imagination": Camp Catawba as Muse
DESCRIPTION:Places can be inspiring\, and Western North Carolina boasts quite a few.  Nestled in the mountains in Blowing Rock\, Camp Catawba\, a summer camp operating between 1945 and 1970\, inspired its founder\, Vera Lachmann\, and her partner\, Tui St. George Tucker\, in a variety of ways. A poem Lachmann wrote for Tucker expresses that for them\, Catawba is “more magnificent than imagination.”  In this talk\, Shulstad will provide a brief history of Lachmann’s founding of the camp and its mission. Then she will share the poetry and music created by Lachmann and Tucker that reflect their passion for Catawba\, and the ways in which they constructed an artistic community within that place that nurtured the creativity of the campers. \nWebsite
URL:https://blowingrock.com/event/more-magnificent-than-imagination-camp-catawba-as-muse/
LOCATION:Blowing Rock Art & History Museum\, 159 Ginny Stevens Lane\, Blowing Rock\, NC\, 28605\, United States
CATEGORIES:Arts,Educational,History and Heritage,MAIN CALENDAR,Summer
ATTACH;FMTTYPE=image/webp:https://blowingrock.com/wp-content/uploads/2025/08/640px-camp-catawba-mainhouse.webp
END:VEVENT
BEGIN:VEVENT
DTSTART;TZID=America/Halifax:20250921T150000
DTEND;TZID=America/Halifax:20250921T170000
DTSTAMP:20260419T165818
CREATED:20250903T203557Z
LAST-MODIFIED:20250903T203557Z
UID:10004614-1758466800-1758474000@blowingrock.com
SUMMARY:Outdoor Paint & Sip at Westglow
DESCRIPTION:Nestled in the heart of the Blue Ridge Mountains\, Westglow Luxury Resort & Spa—in collaboration with Let’s Be Artsy—is delighted to present an exclusive Outdoor Paint & Sip experience on September 21\, 2025. This unique event combines Westglow’s award-winning hospitality with Let’s Be Artsy’s signature guided painting sessions\, offering guests an immersive opportunity to create\, connect\, and celebrate amidst the breathtaking High Country landscape. \nEvent Details:\nWhat: September 21 Outdoor Paint & Sip\nWhere: Westglow Luxury Resort & Spa\, Blowing Rock\, NC\nWhen: Sunday\, September 21\, 2025\, between 3:00-5:00 PM\nCost: $75.00 per person
URL:https://blowingrock.com/event/outdoor-paint-sip-at-westglow/
LOCATION:Daingerfield’s\, 224 Westglow Cir.\, Blowing Rock\, NC\, 28605\, United States
CATEGORIES:Arts,Fall,MAIN CALENDAR,Restaurants
ATTACH;FMTTYPE=image/jpeg:https://blowingrock.com/wp-content/uploads/2025/09/thumbnail-westglow-paint-and-sip.jpg
END:VEVENT
BEGIN:VEVENT
DTSTART;TZID=America/Halifax:20250925T180000
DTEND;TZID=America/Halifax:20250925T190000
DTSTAMP:20260419T165818
CREATED:20250806T144723Z
LAST-MODIFIED:20250806T144723Z
UID:10004600-1758823200-1758826800@blowingrock.com
SUMMARY:Cocktails with the Curator: Jack Boul
DESCRIPTION:This cocktail with the curator will feature BRAHM’s Curator Gabe Wilson in conversation with Jack Boul’s son\, David Boul. Patrons can expect one part gallery tour\, two parts conversation\, and a splash of cocktail party. This event is limited to 15 people. Registrations are required. Non-alcoholic options will be available upon request. \nNon-alcoholic options will be available upon request. \nFree for Members; $8 General Admission \nWebsite
URL:https://blowingrock.com/event/cocktails-with-the-curator-jack-boul/
LOCATION:Blowing Rock Art & History Museum\, 159 Ginny Stevens Lane\, Blowing Rock\, NC\, 28605\, United States
CATEGORIES:Arts,Educational,Fall,MAIN CALENDAR
ATTACH;FMTTYPE=image/webp:https://blowingrock.com/wp-content/uploads/2025/08/jackboulcatawba.webp
END:VEVENT
BEGIN:VEVENT
DTSTART;TZID=America/Halifax:20250926T100000
DTEND;TZID=America/Halifax:20250927T160000
DTSTAMP:20260419T165818
CREATED:20250707T140711Z
LAST-MODIFIED:20250707T141002Z
UID:10004572-1758880800-1758988800@blowingrock.com
SUMMARY:Print Making & Etching Demo at Moses Cone Manor
DESCRIPTION:John Furches will demonstrate print making and etching techniques. This demonstration will be held on the front porch of the the Moses Cone Manor from 10am-4pm. Visitors are encouraged to watch and ask questions while the demonstrators work and talk about their creative process! \nWebsite
URL:https://blowingrock.com/event/print-making-etching-demo-at-moses-cone-manor/
LOCATION:Moses Cone Manor\, Blowing Rock\, NC\, 28605\, United States
CATEGORIES:Arts,Educational,Fall,MAIN CALENDAR,Moses Cone
ATTACH;FMTTYPE=image/jpeg:https://blowingrock.com/wp-content/uploads/2024/06/conemanorsunrise_jimruff-scaled.jpg
END:VEVENT
END:VCALENDAR