BEGIN:VCALENDAR
VERSION:2.0
PRODID:-//Blowing Rock, NC - ECPv6.15.16//NONSGML v1.0//EN
CALSCALE:GREGORIAN
METHOD:PUBLISH
X-WR-CALNAME:Blowing Rock, NC
X-ORIGINAL-URL:https://blowingrock.com
X-WR-CALDESC:Events for Blowing Rock, NC
REFRESH-INTERVAL;VALUE=DURATION:PT1H
X-Robots-Tag:noindex
X-PUBLISHED-TTL:PT1H
BEGIN:VTIMEZONE
TZID:America/Halifax
BEGIN:DAYLIGHT
TZOFFSETFROM:-0400
TZOFFSETTO:-0300
TZNAME:ADT
DTSTART:20250309T060000
END:DAYLIGHT
BEGIN:STANDARD
TZOFFSETFROM:-0300
TZOFFSETTO:-0400
TZNAME:AST
DTSTART:20251102T050000
END:STANDARD
BEGIN:DAYLIGHT
TZOFFSETFROM:-0400
TZOFFSETTO:-0300
TZNAME:ADT
DTSTART:20260308T060000
END:DAYLIGHT
BEGIN:STANDARD
TZOFFSETFROM:-0300
TZOFFSETTO:-0400
TZNAME:AST
DTSTART:20261101T050000
END:STANDARD
BEGIN:DAYLIGHT
TZOFFSETFROM:-0400
TZOFFSETTO:-0300
TZNAME:ADT
DTSTART:20270314T060000
END:DAYLIGHT
BEGIN:STANDARD
TZOFFSETFROM:-0300
TZOFFSETTO:-0400
TZNAME:AST
DTSTART:20271107T050000
END:STANDARD
END:VTIMEZONE
BEGIN:VEVENT
DTSTART;TZID=America/Halifax:20260502T100000
DTEND;TZID=America/Halifax:20260502T110000
DTSTAMP:20260420T043916
CREATED:20260413T141935Z
LAST-MODIFIED:20260413T141935Z
UID:10005078-1777716000-1777719600@blowingrock.com
SUMMARY:Artful Yoga
DESCRIPTION:Join BRAHM on your mat to explore elements of current works on exhibit as we move through an all levels yoga class. Meet in the community room with a slide show featuring different works each week. Classes will be led by Suzie Taylor\, a recent graduate of the BRAHM docent program + certified yoga teacher. With over two decades of yoga training\, Suzie is passionate about alignment both on + off our mats. \nAfter each class\, Suzie will provide a tour through the galleries and connect that class’s instruction with the art on view in the Museum’s galleries. \nBring your own mats. Registration is required for this class. \nWebsite
URL:https://blowingrock.com/event/artful-yoga/
LOCATION:Blowing Rock Art & History Museum\, 159 Ginny Stevens Lane\, Blowing Rock\, NC\, 28605\, United States
CATEGORIES:Arts,Educational,Girls Getaways,MAIN CALENDAR,Spring
ATTACH;FMTTYPE=image/jpeg:https://blowingrock.com/wp-content/uploads/2026/04/brahmexterior.jpg
END:VEVENT
BEGIN:VEVENT
DTSTART;TZID=America/Halifax:20260502T110000
DTEND;TZID=America/Halifax:20260502T120000
DTSTAMP:20260420T043916
CREATED:20260413T130001Z
LAST-MODIFIED:20260413T142200Z
UID:10003108-1777719600-1777723200@blowingrock.com
SUMMARY:Sit & Stitch
DESCRIPTION:Image Credit: This image is created with the assistance of DALL-E generative AI\, 2024  \nBring your own supplies and projects to work on and workshop with the group! Bring friends or make new ones. \nReady to start a new project? Sit and Stitch will meet the first Saturday of every month. \nAdmission is free for everyone. \nWebsite
URL:https://blowingrock.com/event/sit-stitch/
LOCATION:Blowing Rock Art & History Museum\, 159 Ginny Stevens Lane\, Blowing Rock\, NC\, 28605\, United States
CATEGORIES:Arts,MAIN CALENDAR,Spring
ATTACH;FMTTYPE=image/png:https://blowingrock.com/wp-content/uploads/2024/10/Screenshot2024-10-15at2.30.37PM.png
END:VEVENT
BEGIN:VEVENT
DTSTART;TZID=America/Halifax:20260507T180000
DTEND;TZID=America/Halifax:20260507T190000
DTSTAMP:20260420T043916
CREATED:20260413T143948Z
LAST-MODIFIED:20260413T143948Z
UID:10005079-1778176800-1778180400@blowingrock.com
SUMMARY:Captivated by George Masa
DESCRIPTION:A journey into the fascinating and remarkable life of pioneering Japanese immigrant photographer and conservationist George Masa\, by filmmaker and biographer\, Paul Bonesteel. \nWebsite \n 
URL:https://blowingrock.com/event/captivated-by-george-masa/
LOCATION:Blowing Rock Art & History Museum\, 159 Ginny Stevens Lane\, Blowing Rock\, NC\, 28605\, United States
CATEGORIES:Arts,Educational,MAIN CALENDAR,Spring
ATTACH;FMTTYPE=image/jpeg:https://blowingrock.com/wp-content/uploads/2026/04/brahmexterior.jpg
END:VEVENT
BEGIN:VEVENT
DTSTART;TZID=America/Halifax:20260509T110000
DTEND;TZID=America/Halifax:20260509T130000
DTSTAMP:20260420T043916
CREATED:20260413T140053Z
LAST-MODIFIED:20260413T144539Z
UID:10004824-1778324400-1778331600@blowingrock.com
SUMMARY:Studio Saturday: Tadashi Sato
DESCRIPTION:Tadashi Sato was a painter\, muralist\, mosaicist\, and one of the most active artists to emerge from Hawaiʻi since World War II. Sato took inspiration from nature\, calligraphy\, and Zen Buddhism to create effervescent\, abstract compositions. Create a watercolor painting inspired by Sato for Asian\, Asian American\, Native Hawaiian\, and Pacific Islander Heritage Month. \nMay 9 Studio Saturday: Youth aged 12-18 are invited to join BRAHM every second Saturday from 11:00 am until 1:00 pm this winter and spring for directed studio time inspired by famous artists. Explore new styles and processes for making art. Meet new friends and express your creative side. Materials and snacks provided. \nWebsite
URL:https://blowingrock.com/event/studio-saturday/
LOCATION:Blowing Rock Art & History Museum\, 159 Ginny Stevens Lane\, Blowing Rock\, NC\, 28605\, United States
CATEGORIES:Arts,Educational,MAIN CALENDAR,Spring
ATTACH;FMTTYPE=image/jpeg:https://blowingrock.com/wp-content/uploads/2026/04/brahmexterior.jpg
END:VEVENT
BEGIN:VEVENT
DTSTART;TZID=America/Halifax:20260509T120000
DTEND;TZID=America/Halifax:20260509T130000
DTSTAMP:20260420T043916
CREATED:20260413T145118Z
LAST-MODIFIED:20260413T145118Z
UID:10005080-1778328000-1778331600@blowingrock.com
SUMMARY:Lunch & Learn: A Slow Art Experience
DESCRIPTION:Take time for yourself for a special series BRAHM is calling Lunch & Learn: A Slow Art Experience. \nWhat is Slow Art?  \nMost of us stroll through an art gallery\, pausing at a piece of art for a few moments before moving on to the next\, like some form of visual buffet. Slow Art as a concept was created to encourage us all to stay with the art for a little longer\, savor\, and soak it in. The hope is that we not only see more\, but also get to know the works in greater detail. Exploring artworks more slowly can help us to form more stories\, feelings\, and opinions about the works. \nWebsite
URL:https://blowingrock.com/event/lunch-learn-a-slow-art-experience/
LOCATION:Blowing Rock Art & History Museum\, 159 Ginny Stevens Lane\, Blowing Rock\, NC\, 28605\, United States
CATEGORIES:Arts,Educational,Food,MAIN CALENDAR,Spring
ATTACH;FMTTYPE=image/jpeg:https://blowingrock.com/wp-content/uploads/2026/04/brahmexterior.jpg
END:VEVENT
BEGIN:VEVENT
DTSTART;TZID=America/Halifax:20260514T180000
DTEND;TZID=America/Halifax:20260514T190000
DTSTAMP:20260420T043916
CREATED:20260413T145733Z
LAST-MODIFIED:20260413T145733Z
UID:10005081-1778781600-1778785200@blowingrock.com
SUMMARY:Identification & Ecology of Birch Trees in Appalachia
DESCRIPTION:In this interactive talk about birches; BRAHM will explore identifying characteristics and morphology\, uses by humans and animals and importance in the landscape in Appalachia. \nWebsite
URL:https://blowingrock.com/event/identification-ecology-of-birch-trees-in-appalachia/
LOCATION:Blowing Rock Art & History Museum\, 159 Ginny Stevens Lane\, Blowing Rock\, NC\, 28605\, United States
CATEGORIES:Arts,Educational,MAIN CALENDAR,Spring
ATTACH;FMTTYPE=image/jpeg:https://blowingrock.com/wp-content/uploads/2026/04/brahmexterior.jpg
END:VEVENT
BEGIN:VEVENT
DTSTART;TZID=America/Halifax:20260516T100000
DTEND;TZID=America/Halifax:20260516T160000
DTSTAMP:20260420T043916
CREATED:20251212T155120Z
LAST-MODIFIED:20260217T164445Z
UID:10004720-1778925600-1778947200@blowingrock.com
SUMMARY:Art in the Park
DESCRIPTION:Blowing Rock Art in the Park celebrates six decades of shows! Enjoy fine art and handcrafts from award-winning and acclaimed artisans. Artists are jury-selected and each show features a different set of artists\, curated to present a wide variety of mediums. Find gifts and works for personal collections\, functional beauties like furniture and cutlery\, and wearable art like handcrafted jewelry and textiles.  Artists’ tents line Park Avenue right in downtown Blowing Rock. \nWebsite
URL:https://blowingrock.com/event/art-in-the-park-1/
LOCATION:Blowing Rock Chamber of Commerce\, 132 Park Ave\, Blowing Rock NC\, NC\, 28605\, United States
CATEGORIES:Arts,Family,Featured,Girls Getaways,MAIN CALENDAR,Romantic Getaways,Shopping,Spring
ATTACH;FMTTYPE=image/jpeg:https://blowingrock.com/wp-content/uploads/2021/05/blowingrock-artinthepark-scaled.jpg
END:VEVENT
BEGIN:VEVENT
DTSTART;TZID=America/Halifax:20260517T140000
DTEND;TZID=America/Halifax:20260517T150000
DTSTAMP:20260420T043916
CREATED:20260413T151711Z
LAST-MODIFIED:20260413T151711Z
UID:10005082-1779026400-1779030000@blowingrock.com
SUMMARY:Docent Focus Tour
DESCRIPTION:Join one of BRAHM’s docents for a special kind of tour that narrows your field of view to one exhibition for an hour. Learn about the artists\, the creation of works\, and the inside story of the exhibit. \nSpaces are limited\, sign up early!  \nWebsite
URL:https://blowingrock.com/event/docent-focus-tour/
LOCATION:Blowing Rock Art & History Museum\, 159 Ginny Stevens Lane\, Blowing Rock\, NC\, 28605\, United States
CATEGORIES:Arts,Educational,MAIN CALENDAR,Spring
ATTACH;FMTTYPE=image/jpeg:https://blowingrock.com/wp-content/uploads/2026/04/brahmexterior.jpg
END:VEVENT
BEGIN:VEVENT
DTSTART;TZID=America/Halifax:20260517T130000
DTEND;TZID=America/Halifax:20260517T150000
DTSTAMP:20260420T043916
CREATED:20260303T143140Z
LAST-MODIFIED:20260303T162845Z
UID:10000877-1779022800-1779030000@blowingrock.com
SUMMARY:Alair Concert in the Park
DESCRIPTION:Mark your calendars for the 2026 Alair Homes High Country Summer Concert Series! Hosted in Downtown Blowing Rock at Memorial Park\, this year’s concert series is a fundraiser for @HungerHealthCoalition’s A Simple Gesture Program. \nFrom 1-3 PM\, bring your family and friends to enjoy some great live music and to support the High Country community!  \nWebsite
URL:https://blowingrock.com/event/concert-in-the-park/
LOCATION:Memorial Park\, 1036 Main Street\, Blowing Rock\, NC\, 28605\, United States
CATEGORIES:Arts,Family,Featured,MAIN CALENDAR,Music,Summer
ATTACH;FMTTYPE=image/jpeg:https://blowingrock.com/wp-content/uploads/2021/05/concertinthepark-BD4UBh.tmp_.jpg
END:VEVENT
BEGIN:VEVENT
DTSTART;TZID=America/Halifax:20260519T190000
DTEND;TZID=America/Halifax:20260519T203000
DTSTAMP:20260420T043916
CREATED:20260323T185158Z
LAST-MODIFIED:20260323T185158Z
UID:10004830-1779217200-1779222600@blowingrock.com
SUMMARY:Landon Talks
DESCRIPTION:Landon Talks has built one of the most engaged organic audiences in the South\, with over 900\,000 followers across Instagram\, Facebook\, Threads and YouTube. His content focuses on Southern culture\, food\, family life\, and everyday observations. His “Let’s Discuss” videos regularly go viral\, driven by comment sections that become part of the show. Now he’s taking it LIVE. \nWebsite
URL:https://blowingrock.com/event/landon-talks/
LOCATION:Appalachian Theatre of the High Country\, 559 West King Street\, Boone\, NC\, 28607\, United States
CATEGORIES:Arts,History and Heritage,MAIN CALENDAR,Spring
ATTACH;FMTTYPE=image/webp:https://blowingrock.com/wp-content/uploads/2026/03/landontalk.webp
END:VEVENT
BEGIN:VEVENT
DTSTART;TZID=America/Halifax:20260525T100000
DTEND;TZID=America/Halifax:20260531T170000
DTSTAMP:20260420T043916
CREATED:20260407T145447Z
LAST-MODIFIED:20260415T151442Z
UID:10004838-1779703200-1780246800@blowingrock.com
SUMMARY:Artists in Residence: Ann Hord-Heatherley\, Jean Hord-Roberts\, and Ricky Evans
DESCRIPTION:Come see these artists working live and selling their art at Edgewood Cottage! Talk to them about their process and learn more about what they do! \nAnn Heatherley – Figurative Art \nJean Roberts – Paint \nRicky Evans – Paint\, Photography \nWebsite
URL:https://blowingrock.com/event/artists-in-residence-ann-heatherley-jean-roberts-and-ricky-evans/
LOCATION:NC
CATEGORIES:Arts,Educational,Girls Getaways,MAIN CALENDAR,Romantic Getaways,Shopping,Spring
ATTACH;FMTTYPE=image/avif:https://blowingrock.com/wp-content/uploads/2025/05/rickyevansoil.avif
END:VEVENT
BEGIN:VEVENT
DTSTART;TZID=America/Halifax:20260525T100000
DTEND;TZID=America/Halifax:20260525T170000
DTSTAMP:20260420T043916
CREATED:20260303T132417Z
LAST-MODIFIED:20260303T153704Z
UID:10001499-1779703200-1779728400@blowingrock.com
SUMMARY:Artists in Residence Begins
DESCRIPTION:Free art shows in Blowing Rock! Daily through Labor Day\, new artists every Monday. \nMeet different High Country artists each week. Buy original art directly from artists- Art for every interest and budget. Located inside Historic Edgewood Cottage on Main St. one block south of Town Tavern. \nWebsite
URL:https://blowingrock.com/event/artists-in-residence-begins-2/
LOCATION:Edgewood Cottage\, 115 Ginny Stevens Ln.\, Blowing Rock\, NC\, 28605\, United States
CATEGORIES:Arts,Featured,MAIN CALENDAR,Shopping,Spring,Summer
ATTACH;FMTTYPE=image/jpeg:https://blowingrock.com/wp-content/uploads/2021/03/edgewood_sculpture_169.jpg
END:VEVENT
BEGIN:VEVENT
DTSTART;TZID=America/Halifax:20260528T170000
DTEND;TZID=America/Halifax:20260528T190000
DTSTAMP:20260420T043916
CREATED:20260413T153108Z
LAST-MODIFIED:20260413T153108Z
UID:10005084-1779987600-1779994800@blowingrock.com
SUMMARY:Cork & Canvas
DESCRIPTION:Learn to paint in a relaxed atmosphere\, inspired by Barn Above Pond by Wolf Kahn. Each participant goes home with a finished work of art. All materials\, including canvases\, acrylic paint\, brushes\, and aprons\, are provided. A trained instructor will lead you step-by-step.\nWine\, beer\, and light snacks are complimentary. \nWebsite
URL:https://blowingrock.com/event/cork-canvas-2/
LOCATION:Blowing Rock Art & History Museum\, 159 Ginny Stevens Lane\, Blowing Rock\, NC\, 28605\, United States
CATEGORIES:Arts,Educational,Girls Getaways,MAIN CALENDAR,Romantic Getaways,Spring
ATTACH;FMTTYPE=image/jpeg:https://blowingrock.com/wp-content/uploads/2026/04/brahmexterior.jpg
END:VEVENT
BEGIN:VEVENT
DTSTART;TZID=America/Halifax:20260528T173000
DTEND;TZID=America/Halifax:20260528T193000
DTSTAMP:20260420T043916
CREATED:20260310T151515Z
LAST-MODIFIED:20260310T151515Z
UID:10004815-1779989400-1779996600@blowingrock.com
SUMMARY:Roots in the Garden Summer Concert Series
DESCRIPTION:Head over to Daniel Boone Native Garden for the free\, family-friendly Roots in the Garden concert series! Concerts will run from 5:30 to 7:30 p.m. and will also feature visual artists. \nDates: May 28\, June 18\, July 2\, July 30\, Aug. 20 \nBeer and wine will be available for purchase. Picnics are welcome\, and we will have food trucks as well. Please note\, no dogs or glass containers in the Gardens. \nAll proceeds will support the Gardens’ mission to provide education to the public about native plants; conserve the plants in our collection; and encourage environmental stewardship through beautification\, restoration\, sustainability\, and the conservation of natural resources. \nWebsite
URL:https://blowingrock.com/event/roots-in-the-garden-summer-concert-series/2026-05-28/
LOCATION:Daniel Boone Native Gardens\, 651 Horn In The West Dr.\, Boone\, NC\, 28607\, United States
CATEGORIES:Arts,Girls Getaways,MAIN CALENDAR,Music,Recreation/Outdoors,Romantic Getaways,Summer
ATTACH;FMTTYPE=image/webp:https://blowingrock.com/wp-content/uploads/2026/03/danielnativegate.webp
END:VEVENT
END:VCALENDAR