BEGIN:VCALENDAR
VERSION:2.0
PRODID:-//Blowing Rock, NC - ECPv6.15.16//NONSGML v1.0//EN
CALSCALE:GREGORIAN
METHOD:PUBLISH
X-ORIGINAL-URL:https://blowingrock.com
X-WR-CALDESC:Events for Blowing Rock, NC
REFRESH-INTERVAL;VALUE=DURATION:PT1H
X-Robots-Tag:noindex
X-PUBLISHED-TTL:PT1H
BEGIN:VTIMEZONE
TZID:America/Halifax
BEGIN:DAYLIGHT
TZOFFSETFROM:-0400
TZOFFSETTO:-0300
TZNAME:ADT
DTSTART:20250309T060000
END:DAYLIGHT
BEGIN:STANDARD
TZOFFSETFROM:-0300
TZOFFSETTO:-0400
TZNAME:AST
DTSTART:20251102T050000
END:STANDARD
BEGIN:DAYLIGHT
TZOFFSETFROM:-0400
TZOFFSETTO:-0300
TZNAME:ADT
DTSTART:20260308T060000
END:DAYLIGHT
BEGIN:STANDARD
TZOFFSETFROM:-0300
TZOFFSETTO:-0400
TZNAME:AST
DTSTART:20261101T050000
END:STANDARD
BEGIN:DAYLIGHT
TZOFFSETFROM:-0400
TZOFFSETTO:-0300
TZNAME:ADT
DTSTART:20270314T060000
END:DAYLIGHT
BEGIN:STANDARD
TZOFFSETFROM:-0300
TZOFFSETTO:-0400
TZNAME:AST
DTSTART:20271107T050000
END:STANDARD
END:VTIMEZONE
BEGIN:VEVENT
DTSTART;TZID=America/Halifax:20260519T190000
DTEND;TZID=America/Halifax:20260519T203000
DTSTAMP:20260420T014201
CREATED:20260323T185158Z
LAST-MODIFIED:20260323T185158Z
UID:10004830-1779217200-1779222600@blowingrock.com
SUMMARY:Landon Talks
DESCRIPTION:Landon Talks has built one of the most engaged organic audiences in the South\, with over 900\,000 followers across Instagram\, Facebook\, Threads and YouTube. His content focuses on Southern culture\, food\, family life\, and everyday observations. His “Let’s Discuss” videos regularly go viral\, driven by comment sections that become part of the show. Now he’s taking it LIVE. \nWebsite
URL:https://blowingrock.com/event/landon-talks/
LOCATION:Appalachian Theatre of the High Country\, 559 West King Street\, Boone\, NC\, 28607\, United States
CATEGORIES:Arts,History and Heritage,MAIN CALENDAR,Spring
ATTACH;FMTTYPE=image/webp:https://blowingrock.com/wp-content/uploads/2026/03/landontalk.webp
END:VEVENT
END:VCALENDAR