BEGIN:VCALENDAR
VERSION:2.0
PRODID:-//Blowing Rock, NC - ECPv6.15.16//NONSGML v1.0//EN
CALSCALE:GREGORIAN
METHOD:PUBLISH
X-ORIGINAL-URL:https://blowingrock.com
X-WR-CALDESC:Events for Blowing Rock, NC
REFRESH-INTERVAL;VALUE=DURATION:PT1H
X-Robots-Tag:noindex
X-PUBLISHED-TTL:PT1H
BEGIN:VTIMEZONE
TZID:America/Halifax
BEGIN:DAYLIGHT
TZOFFSETFROM:-0400
TZOFFSETTO:-0300
TZNAME:ADT
DTSTART:20260308T060000
END:DAYLIGHT
BEGIN:STANDARD
TZOFFSETFROM:-0300
TZOFFSETTO:-0400
TZNAME:AST
DTSTART:20261101T050000
END:STANDARD
BEGIN:DAYLIGHT
TZOFFSETFROM:-0400
TZOFFSETTO:-0300
TZNAME:ADT
DTSTART:20270314T060000
END:DAYLIGHT
BEGIN:STANDARD
TZOFFSETFROM:-0300
TZOFFSETTO:-0400
TZNAME:AST
DTSTART:20271107T050000
END:STANDARD
BEGIN:DAYLIGHT
TZOFFSETFROM:-0400
TZOFFSETTO:-0300
TZNAME:ADT
DTSTART:20280312T060000
END:DAYLIGHT
BEGIN:STANDARD
TZOFFSETFROM:-0300
TZOFFSETTO:-0400
TZNAME:AST
DTSTART:20281105T050000
END:STANDARD
END:VTIMEZONE
BEGIN:VEVENT
DTSTART;TZID=America/Halifax:20270204T140000
DTEND;TZID=America/Halifax:20270204T170000
DTSTAMP:20260419T191035
CREATED:20260410T141718Z
LAST-MODIFIED:20260410T141718Z
UID:10004980-1801749600-1801760400@blowingrock.com
SUMMARY:Blowing Rock Food & Wine Tour
DESCRIPTION:Taste and sip your way around one of the most charming mountain villages you’ll ever experience – Blowing Rock\, North Carolina. \nExpert guides will lead you to all the best restaurants\, while exploring local art and history along the way. \nWebsite
URL:https://blowingrock.com/event/blowing-rock-food-wine-tour/2027-02-04/
LOCATION:NC
CATEGORIES:Educational,Featured,Food,Girls Getaways,History and Heritage,MAIN CALENDAR,Romantic Getaways,Spring,Summer
ATTACH;FMTTYPE=image/jpeg:https://blowingrock.com/wp-content/uploads/2026/04/brfoodwinetour-edited.jpg
ORGANIZER;CN="Blowing Rock Food & Wine Tours":MAILTO:blowingrocktours@gmail.com
END:VEVENT
BEGIN:VEVENT
DTSTART;TZID=America/Halifax:20270205T140000
DTEND;TZID=America/Halifax:20270205T170000
DTSTAMP:20260419T191035
CREATED:20260410T141718Z
LAST-MODIFIED:20260410T141718Z
UID:10004981-1801836000-1801846800@blowingrock.com
SUMMARY:Blowing Rock Food & Wine Tour
DESCRIPTION:Taste and sip your way around one of the most charming mountain villages you’ll ever experience – Blowing Rock\, North Carolina. \nExpert guides will lead you to all the best restaurants\, while exploring local art and history along the way. \nWebsite
URL:https://blowingrock.com/event/blowing-rock-food-wine-tour/2027-02-05/
LOCATION:NC
CATEGORIES:Educational,Featured,Food,Girls Getaways,History and Heritage,MAIN CALENDAR,Romantic Getaways,Spring,Summer
ATTACH;FMTTYPE=image/jpeg:https://blowingrock.com/wp-content/uploads/2026/04/brfoodwinetour-edited.jpg
ORGANIZER;CN="Blowing Rock Food & Wine Tours":MAILTO:blowingrocktours@gmail.com
END:VEVENT
BEGIN:VEVENT
DTSTART;TZID=America/Halifax:20270206T140000
DTEND;TZID=America/Halifax:20270206T170000
DTSTAMP:20260419T191035
CREATED:20260410T141718Z
LAST-MODIFIED:20260410T141718Z
UID:10004982-1801922400-1801933200@blowingrock.com
SUMMARY:Blowing Rock Food & Wine Tour
DESCRIPTION:Taste and sip your way around one of the most charming mountain villages you’ll ever experience – Blowing Rock\, North Carolina. \nExpert guides will lead you to all the best restaurants\, while exploring local art and history along the way. \nWebsite
URL:https://blowingrock.com/event/blowing-rock-food-wine-tour/2027-02-06/
LOCATION:NC
CATEGORIES:Educational,Featured,Food,Girls Getaways,History and Heritage,MAIN CALENDAR,Romantic Getaways,Spring,Summer
ATTACH;FMTTYPE=image/jpeg:https://blowingrock.com/wp-content/uploads/2026/04/brfoodwinetour-edited.jpg
ORGANIZER;CN="Blowing Rock Food & Wine Tours":MAILTO:blowingrocktours@gmail.com
END:VEVENT
BEGIN:VEVENT
DTSTART;TZID=America/Halifax:20270211T140000
DTEND;TZID=America/Halifax:20270211T170000
DTSTAMP:20260419T191035
CREATED:20260410T141718Z
LAST-MODIFIED:20260410T141718Z
UID:10004983-1802354400-1802365200@blowingrock.com
SUMMARY:Blowing Rock Food & Wine Tour
DESCRIPTION:Taste and sip your way around one of the most charming mountain villages you’ll ever experience – Blowing Rock\, North Carolina. \nExpert guides will lead you to all the best restaurants\, while exploring local art and history along the way. \nWebsite
URL:https://blowingrock.com/event/blowing-rock-food-wine-tour/2027-02-11/
LOCATION:NC
CATEGORIES:Educational,Featured,Food,Girls Getaways,History and Heritage,MAIN CALENDAR,Romantic Getaways,Spring,Summer
ATTACH;FMTTYPE=image/jpeg:https://blowingrock.com/wp-content/uploads/2026/04/brfoodwinetour-edited.jpg
ORGANIZER;CN="Blowing Rock Food & Wine Tours":MAILTO:blowingrocktours@gmail.com
END:VEVENT
BEGIN:VEVENT
DTSTART;TZID=America/Halifax:20270212T140000
DTEND;TZID=America/Halifax:20270212T170000
DTSTAMP:20260419T191035
CREATED:20260410T141718Z
LAST-MODIFIED:20260410T141718Z
UID:10004984-1802440800-1802451600@blowingrock.com
SUMMARY:Blowing Rock Food & Wine Tour
DESCRIPTION:Taste and sip your way around one of the most charming mountain villages you’ll ever experience – Blowing Rock\, North Carolina. \nExpert guides will lead you to all the best restaurants\, while exploring local art and history along the way. \nWebsite
URL:https://blowingrock.com/event/blowing-rock-food-wine-tour/2027-02-12/
LOCATION:NC
CATEGORIES:Educational,Featured,Food,Girls Getaways,History and Heritage,MAIN CALENDAR,Romantic Getaways,Spring,Summer
ATTACH;FMTTYPE=image/jpeg:https://blowingrock.com/wp-content/uploads/2026/04/brfoodwinetour-edited.jpg
ORGANIZER;CN="Blowing Rock Food & Wine Tours":MAILTO:blowingrocktours@gmail.com
END:VEVENT
BEGIN:VEVENT
DTSTART;TZID=America/Halifax:20270213T140000
DTEND;TZID=America/Halifax:20270213T170000
DTSTAMP:20260419T191035
CREATED:20260410T141718Z
LAST-MODIFIED:20260410T141718Z
UID:10004985-1802527200-1802538000@blowingrock.com
SUMMARY:Blowing Rock Food & Wine Tour
DESCRIPTION:Taste and sip your way around one of the most charming mountain villages you’ll ever experience – Blowing Rock\, North Carolina. \nExpert guides will lead you to all the best restaurants\, while exploring local art and history along the way. \nWebsite
URL:https://blowingrock.com/event/blowing-rock-food-wine-tour/2027-02-13/
LOCATION:NC
CATEGORIES:Educational,Featured,Food,Girls Getaways,History and Heritage,MAIN CALENDAR,Romantic Getaways,Spring,Summer
ATTACH;FMTTYPE=image/jpeg:https://blowingrock.com/wp-content/uploads/2026/04/brfoodwinetour-edited.jpg
ORGANIZER;CN="Blowing Rock Food & Wine Tours":MAILTO:blowingrocktours@gmail.com
END:VEVENT
BEGIN:VEVENT
DTSTART;TZID=America/Halifax:20270218T140000
DTEND;TZID=America/Halifax:20270218T170000
DTSTAMP:20260419T191035
CREATED:20260410T141718Z
LAST-MODIFIED:20260410T141718Z
UID:10004986-1802959200-1802970000@blowingrock.com
SUMMARY:Blowing Rock Food & Wine Tour
DESCRIPTION:Taste and sip your way around one of the most charming mountain villages you’ll ever experience – Blowing Rock\, North Carolina. \nExpert guides will lead you to all the best restaurants\, while exploring local art and history along the way. \nWebsite
URL:https://blowingrock.com/event/blowing-rock-food-wine-tour/2027-02-18/
LOCATION:NC
CATEGORIES:Educational,Featured,Food,Girls Getaways,History and Heritage,MAIN CALENDAR,Romantic Getaways,Spring,Summer
ATTACH;FMTTYPE=image/jpeg:https://blowingrock.com/wp-content/uploads/2026/04/brfoodwinetour-edited.jpg
ORGANIZER;CN="Blowing Rock Food & Wine Tours":MAILTO:blowingrocktours@gmail.com
END:VEVENT
BEGIN:VEVENT
DTSTART;TZID=America/Halifax:20270219T140000
DTEND;TZID=America/Halifax:20270219T170000
DTSTAMP:20260419T191035
CREATED:20260410T141718Z
LAST-MODIFIED:20260410T141718Z
UID:10004987-1803045600-1803056400@blowingrock.com
SUMMARY:Blowing Rock Food & Wine Tour
DESCRIPTION:Taste and sip your way around one of the most charming mountain villages you’ll ever experience – Blowing Rock\, North Carolina. \nExpert guides will lead you to all the best restaurants\, while exploring local art and history along the way. \nWebsite
URL:https://blowingrock.com/event/blowing-rock-food-wine-tour/2027-02-19/
LOCATION:NC
CATEGORIES:Educational,Featured,Food,Girls Getaways,History and Heritage,MAIN CALENDAR,Romantic Getaways,Spring,Summer
ATTACH;FMTTYPE=image/jpeg:https://blowingrock.com/wp-content/uploads/2026/04/brfoodwinetour-edited.jpg
ORGANIZER;CN="Blowing Rock Food & Wine Tours":MAILTO:blowingrocktours@gmail.com
END:VEVENT
BEGIN:VEVENT
DTSTART;TZID=America/Halifax:20270220T140000
DTEND;TZID=America/Halifax:20270220T170000
DTSTAMP:20260419T191035
CREATED:20260410T141718Z
LAST-MODIFIED:20260410T141718Z
UID:10004988-1803132000-1803142800@blowingrock.com
SUMMARY:Blowing Rock Food & Wine Tour
DESCRIPTION:Taste and sip your way around one of the most charming mountain villages you’ll ever experience – Blowing Rock\, North Carolina. \nExpert guides will lead you to all the best restaurants\, while exploring local art and history along the way. \nWebsite
URL:https://blowingrock.com/event/blowing-rock-food-wine-tour/2027-02-20/
LOCATION:NC
CATEGORIES:Educational,Featured,Food,Girls Getaways,History and Heritage,MAIN CALENDAR,Romantic Getaways,Spring,Summer
ATTACH;FMTTYPE=image/jpeg:https://blowingrock.com/wp-content/uploads/2026/04/brfoodwinetour-edited.jpg
ORGANIZER;CN="Blowing Rock Food & Wine Tours":MAILTO:blowingrocktours@gmail.com
END:VEVENT
BEGIN:VEVENT
DTSTART;TZID=America/Halifax:20270225T140000
DTEND;TZID=America/Halifax:20270225T170000
DTSTAMP:20260419T191035
CREATED:20260410T141718Z
LAST-MODIFIED:20260410T141718Z
UID:10004989-1803564000-1803574800@blowingrock.com
SUMMARY:Blowing Rock Food & Wine Tour
DESCRIPTION:Taste and sip your way around one of the most charming mountain villages you’ll ever experience – Blowing Rock\, North Carolina. \nExpert guides will lead you to all the best restaurants\, while exploring local art and history along the way. \nWebsite
URL:https://blowingrock.com/event/blowing-rock-food-wine-tour/2027-02-25/
LOCATION:NC
CATEGORIES:Educational,Featured,Food,Girls Getaways,History and Heritage,MAIN CALENDAR,Romantic Getaways,Spring,Summer
ATTACH;FMTTYPE=image/jpeg:https://blowingrock.com/wp-content/uploads/2026/04/brfoodwinetour-edited.jpg
ORGANIZER;CN="Blowing Rock Food & Wine Tours":MAILTO:blowingrocktours@gmail.com
END:VEVENT
BEGIN:VEVENT
DTSTART;TZID=America/Halifax:20270226T140000
DTEND;TZID=America/Halifax:20270226T170000
DTSTAMP:20260419T191035
CREATED:20260410T141718Z
LAST-MODIFIED:20260410T141718Z
UID:10004990-1803650400-1803661200@blowingrock.com
SUMMARY:Blowing Rock Food & Wine Tour
DESCRIPTION:Taste and sip your way around one of the most charming mountain villages you’ll ever experience – Blowing Rock\, North Carolina. \nExpert guides will lead you to all the best restaurants\, while exploring local art and history along the way. \nWebsite
URL:https://blowingrock.com/event/blowing-rock-food-wine-tour/2027-02-26/
LOCATION:NC
CATEGORIES:Educational,Featured,Food,Girls Getaways,History and Heritage,MAIN CALENDAR,Romantic Getaways,Spring,Summer
ATTACH;FMTTYPE=image/jpeg:https://blowingrock.com/wp-content/uploads/2026/04/brfoodwinetour-edited.jpg
ORGANIZER;CN="Blowing Rock Food & Wine Tours":MAILTO:blowingrocktours@gmail.com
END:VEVENT
BEGIN:VEVENT
DTSTART;TZID=America/Halifax:20270227T140000
DTEND;TZID=America/Halifax:20270227T170000
DTSTAMP:20260419T191035
CREATED:20260410T141718Z
LAST-MODIFIED:20260410T141718Z
UID:10004991-1803736800-1803747600@blowingrock.com
SUMMARY:Blowing Rock Food & Wine Tour
DESCRIPTION:Taste and sip your way around one of the most charming mountain villages you’ll ever experience – Blowing Rock\, North Carolina. \nExpert guides will lead you to all the best restaurants\, while exploring local art and history along the way. \nWebsite
URL:https://blowingrock.com/event/blowing-rock-food-wine-tour/2027-02-27/
LOCATION:NC
CATEGORIES:Educational,Featured,Food,Girls Getaways,History and Heritage,MAIN CALENDAR,Romantic Getaways,Spring,Summer
ATTACH;FMTTYPE=image/jpeg:https://blowingrock.com/wp-content/uploads/2026/04/brfoodwinetour-edited.jpg
ORGANIZER;CN="Blowing Rock Food & Wine Tours":MAILTO:blowingrocktours@gmail.com
END:VEVENT
END:VCALENDAR