BEGIN:VCALENDAR
VERSION:2.0
PRODID:-//Blowing Rock, NC - ECPv6.15.16//NONSGML v1.0//EN
CALSCALE:GREGORIAN
METHOD:PUBLISH
X-ORIGINAL-URL:https://blowingrock.com
X-WR-CALDESC:Events for Blowing Rock, NC
REFRESH-INTERVAL;VALUE=DURATION:PT1H
X-Robots-Tag:noindex
X-PUBLISHED-TTL:PT1H
BEGIN:VTIMEZONE
TZID:America/Halifax
BEGIN:DAYLIGHT
TZOFFSETFROM:-0400
TZOFFSETTO:-0300
TZNAME:ADT
DTSTART:20260308T060000
END:DAYLIGHT
BEGIN:STANDARD
TZOFFSETFROM:-0300
TZOFFSETTO:-0400
TZNAME:AST
DTSTART:20261101T050000
END:STANDARD
BEGIN:DAYLIGHT
TZOFFSETFROM:-0400
TZOFFSETTO:-0300
TZNAME:ADT
DTSTART:20270314T060000
END:DAYLIGHT
BEGIN:STANDARD
TZOFFSETFROM:-0300
TZOFFSETTO:-0400
TZNAME:AST
DTSTART:20271107T050000
END:STANDARD
BEGIN:DAYLIGHT
TZOFFSETFROM:-0400
TZOFFSETTO:-0300
TZNAME:ADT
DTSTART:20280312T060000
END:DAYLIGHT
BEGIN:STANDARD
TZOFFSETFROM:-0300
TZOFFSETTO:-0400
TZNAME:AST
DTSTART:20281105T050000
END:STANDARD
END:VTIMEZONE
BEGIN:VEVENT
DTSTART;TZID=America/Halifax:20270304T140000
DTEND;TZID=America/Halifax:20270304T170000
DTSTAMP:20260419T173255
CREATED:20260410T141718Z
LAST-MODIFIED:20260410T141718Z
UID:10004992-1804168800-1804179600@blowingrock.com
SUMMARY:Blowing Rock Food & Wine Tour
DESCRIPTION:Taste and sip your way around one of the most charming mountain villages you’ll ever experience – Blowing Rock\, North Carolina. \nExpert guides will lead you to all the best restaurants\, while exploring local art and history along the way. \nWebsite
URL:https://blowingrock.com/event/blowing-rock-food-wine-tour/2027-03-04/
LOCATION:NC
CATEGORIES:Educational,Featured,Food,Girls Getaways,History and Heritage,MAIN CALENDAR,Romantic Getaways,Spring,Summer
ATTACH;FMTTYPE=image/jpeg:https://blowingrock.com/wp-content/uploads/2026/04/brfoodwinetour-edited.jpg
ORGANIZER;CN="Blowing Rock Food & Wine Tours":MAILTO:blowingrocktours@gmail.com
END:VEVENT
BEGIN:VEVENT
DTSTART;TZID=America/Halifax:20270305T140000
DTEND;TZID=America/Halifax:20270305T170000
DTSTAMP:20260419T173255
CREATED:20260410T141718Z
LAST-MODIFIED:20260410T141718Z
UID:10004993-1804255200-1804266000@blowingrock.com
SUMMARY:Blowing Rock Food & Wine Tour
DESCRIPTION:Taste and sip your way around one of the most charming mountain villages you’ll ever experience – Blowing Rock\, North Carolina. \nExpert guides will lead you to all the best restaurants\, while exploring local art and history along the way. \nWebsite
URL:https://blowingrock.com/event/blowing-rock-food-wine-tour/2027-03-05/
LOCATION:NC
CATEGORIES:Educational,Featured,Food,Girls Getaways,History and Heritage,MAIN CALENDAR,Romantic Getaways,Spring,Summer
ATTACH;FMTTYPE=image/jpeg:https://blowingrock.com/wp-content/uploads/2026/04/brfoodwinetour-edited.jpg
ORGANIZER;CN="Blowing Rock Food & Wine Tours":MAILTO:blowingrocktours@gmail.com
END:VEVENT
BEGIN:VEVENT
DTSTART;TZID=America/Halifax:20270306T140000
DTEND;TZID=America/Halifax:20270306T170000
DTSTAMP:20260419T173255
CREATED:20260410T141718Z
LAST-MODIFIED:20260410T141718Z
UID:10004994-1804341600-1804352400@blowingrock.com
SUMMARY:Blowing Rock Food & Wine Tour
DESCRIPTION:Taste and sip your way around one of the most charming mountain villages you’ll ever experience – Blowing Rock\, North Carolina. \nExpert guides will lead you to all the best restaurants\, while exploring local art and history along the way. \nWebsite
URL:https://blowingrock.com/event/blowing-rock-food-wine-tour/2027-03-06/
LOCATION:NC
CATEGORIES:Educational,Featured,Food,Girls Getaways,History and Heritage,MAIN CALENDAR,Romantic Getaways,Spring,Summer
ATTACH;FMTTYPE=image/jpeg:https://blowingrock.com/wp-content/uploads/2026/04/brfoodwinetour-edited.jpg
ORGANIZER;CN="Blowing Rock Food & Wine Tours":MAILTO:blowingrocktours@gmail.com
END:VEVENT
BEGIN:VEVENT
DTSTART;TZID=America/Halifax:20270311T140000
DTEND;TZID=America/Halifax:20270311T170000
DTSTAMP:20260419T173255
CREATED:20260410T141718Z
LAST-MODIFIED:20260410T141718Z
UID:10004995-1804773600-1804784400@blowingrock.com
SUMMARY:Blowing Rock Food & Wine Tour
DESCRIPTION:Taste and sip your way around one of the most charming mountain villages you’ll ever experience – Blowing Rock\, North Carolina. \nExpert guides will lead you to all the best restaurants\, while exploring local art and history along the way. \nWebsite
URL:https://blowingrock.com/event/blowing-rock-food-wine-tour/2027-03-11/
LOCATION:NC
CATEGORIES:Educational,Featured,Food,Girls Getaways,History and Heritage,MAIN CALENDAR,Romantic Getaways,Spring,Summer
ATTACH;FMTTYPE=image/jpeg:https://blowingrock.com/wp-content/uploads/2026/04/brfoodwinetour-edited.jpg
ORGANIZER;CN="Blowing Rock Food & Wine Tours":MAILTO:blowingrocktours@gmail.com
END:VEVENT
BEGIN:VEVENT
DTSTART;TZID=America/Halifax:20270312T140000
DTEND;TZID=America/Halifax:20270312T170000
DTSTAMP:20260419T173255
CREATED:20260410T141718Z
LAST-MODIFIED:20260410T141718Z
UID:10004996-1804860000-1804870800@blowingrock.com
SUMMARY:Blowing Rock Food & Wine Tour
DESCRIPTION:Taste and sip your way around one of the most charming mountain villages you’ll ever experience – Blowing Rock\, North Carolina. \nExpert guides will lead you to all the best restaurants\, while exploring local art and history along the way. \nWebsite
URL:https://blowingrock.com/event/blowing-rock-food-wine-tour/2027-03-12/
LOCATION:NC
CATEGORIES:Educational,Featured,Food,Girls Getaways,History and Heritage,MAIN CALENDAR,Romantic Getaways,Spring,Summer
ATTACH;FMTTYPE=image/jpeg:https://blowingrock.com/wp-content/uploads/2026/04/brfoodwinetour-edited.jpg
ORGANIZER;CN="Blowing Rock Food & Wine Tours":MAILTO:blowingrocktours@gmail.com
END:VEVENT
BEGIN:VEVENT
DTSTART;TZID=America/Halifax:20270313T140000
DTEND;TZID=America/Halifax:20270313T170000
DTSTAMP:20260419T173255
CREATED:20260410T141718Z
LAST-MODIFIED:20260410T141718Z
UID:10004997-1804946400-1804957200@blowingrock.com
SUMMARY:Blowing Rock Food & Wine Tour
DESCRIPTION:Taste and sip your way around one of the most charming mountain villages you’ll ever experience – Blowing Rock\, North Carolina. \nExpert guides will lead you to all the best restaurants\, while exploring local art and history along the way. \nWebsite
URL:https://blowingrock.com/event/blowing-rock-food-wine-tour/2027-03-13/
LOCATION:NC
CATEGORIES:Educational,Featured,Food,Girls Getaways,History and Heritage,MAIN CALENDAR,Romantic Getaways,Spring,Summer
ATTACH;FMTTYPE=image/jpeg:https://blowingrock.com/wp-content/uploads/2026/04/brfoodwinetour-edited.jpg
ORGANIZER;CN="Blowing Rock Food & Wine Tours":MAILTO:blowingrocktours@gmail.com
END:VEVENT
BEGIN:VEVENT
DTSTART;TZID=America/Halifax:20270318T140000
DTEND;TZID=America/Halifax:20270318T170000
DTSTAMP:20260419T173255
CREATED:20260410T141718Z
LAST-MODIFIED:20260410T141718Z
UID:10004998-1805378400-1805389200@blowingrock.com
SUMMARY:Blowing Rock Food & Wine Tour
DESCRIPTION:Taste and sip your way around one of the most charming mountain villages you’ll ever experience – Blowing Rock\, North Carolina. \nExpert guides will lead you to all the best restaurants\, while exploring local art and history along the way. \nWebsite
URL:https://blowingrock.com/event/blowing-rock-food-wine-tour/2027-03-18/
LOCATION:NC
CATEGORIES:Educational,Featured,Food,Girls Getaways,History and Heritage,MAIN CALENDAR,Romantic Getaways,Spring,Summer
ATTACH;FMTTYPE=image/jpeg:https://blowingrock.com/wp-content/uploads/2026/04/brfoodwinetour-edited.jpg
ORGANIZER;CN="Blowing Rock Food & Wine Tours":MAILTO:blowingrocktours@gmail.com
END:VEVENT
BEGIN:VEVENT
DTSTART;TZID=America/Halifax:20270319T140000
DTEND;TZID=America/Halifax:20270319T170000
DTSTAMP:20260419T173255
CREATED:20260410T141718Z
LAST-MODIFIED:20260410T141718Z
UID:10004999-1805464800-1805475600@blowingrock.com
SUMMARY:Blowing Rock Food & Wine Tour
DESCRIPTION:Taste and sip your way around one of the most charming mountain villages you’ll ever experience – Blowing Rock\, North Carolina. \nExpert guides will lead you to all the best restaurants\, while exploring local art and history along the way. \nWebsite
URL:https://blowingrock.com/event/blowing-rock-food-wine-tour/2027-03-19/
LOCATION:NC
CATEGORIES:Educational,Featured,Food,Girls Getaways,History and Heritage,MAIN CALENDAR,Romantic Getaways,Spring,Summer
ATTACH;FMTTYPE=image/jpeg:https://blowingrock.com/wp-content/uploads/2026/04/brfoodwinetour-edited.jpg
ORGANIZER;CN="Blowing Rock Food & Wine Tours":MAILTO:blowingrocktours@gmail.com
END:VEVENT
BEGIN:VEVENT
DTSTART;TZID=America/Halifax:20270320T140000
DTEND;TZID=America/Halifax:20270320T170000
DTSTAMP:20260419T173255
CREATED:20260410T141718Z
LAST-MODIFIED:20260410T141718Z
UID:10005000-1805551200-1805562000@blowingrock.com
SUMMARY:Blowing Rock Food & Wine Tour
DESCRIPTION:Taste and sip your way around one of the most charming mountain villages you’ll ever experience – Blowing Rock\, North Carolina. \nExpert guides will lead you to all the best restaurants\, while exploring local art and history along the way. \nWebsite
URL:https://blowingrock.com/event/blowing-rock-food-wine-tour/2027-03-20/
LOCATION:NC
CATEGORIES:Educational,Featured,Food,Girls Getaways,History and Heritage,MAIN CALENDAR,Romantic Getaways,Spring,Summer
ATTACH;FMTTYPE=image/jpeg:https://blowingrock.com/wp-content/uploads/2026/04/brfoodwinetour-edited.jpg
ORGANIZER;CN="Blowing Rock Food & Wine Tours":MAILTO:blowingrocktours@gmail.com
END:VEVENT
BEGIN:VEVENT
DTSTART;TZID=America/Halifax:20270325T140000
DTEND;TZID=America/Halifax:20270325T170000
DTSTAMP:20260419T173255
CREATED:20260410T141718Z
LAST-MODIFIED:20260410T141718Z
UID:10005001-1805983200-1805994000@blowingrock.com
SUMMARY:Blowing Rock Food & Wine Tour
DESCRIPTION:Taste and sip your way around one of the most charming mountain villages you’ll ever experience – Blowing Rock\, North Carolina. \nExpert guides will lead you to all the best restaurants\, while exploring local art and history along the way. \nWebsite
URL:https://blowingrock.com/event/blowing-rock-food-wine-tour/2027-03-25/
LOCATION:NC
CATEGORIES:Educational,Featured,Food,Girls Getaways,History and Heritage,MAIN CALENDAR,Romantic Getaways,Spring,Summer
ATTACH;FMTTYPE=image/jpeg:https://blowingrock.com/wp-content/uploads/2026/04/brfoodwinetour-edited.jpg
ORGANIZER;CN="Blowing Rock Food & Wine Tours":MAILTO:blowingrocktours@gmail.com
END:VEVENT
BEGIN:VEVENT
DTSTART;TZID=America/Halifax:20270326T140000
DTEND;TZID=America/Halifax:20270326T170000
DTSTAMP:20260419T173255
CREATED:20260410T141718Z
LAST-MODIFIED:20260410T141718Z
UID:10005002-1806069600-1806080400@blowingrock.com
SUMMARY:Blowing Rock Food & Wine Tour
DESCRIPTION:Taste and sip your way around one of the most charming mountain villages you’ll ever experience – Blowing Rock\, North Carolina. \nExpert guides will lead you to all the best restaurants\, while exploring local art and history along the way. \nWebsite
URL:https://blowingrock.com/event/blowing-rock-food-wine-tour/2027-03-26/
LOCATION:NC
CATEGORIES:Educational,Featured,Food,Girls Getaways,History and Heritage,MAIN CALENDAR,Romantic Getaways,Spring,Summer
ATTACH;FMTTYPE=image/jpeg:https://blowingrock.com/wp-content/uploads/2026/04/brfoodwinetour-edited.jpg
ORGANIZER;CN="Blowing Rock Food & Wine Tours":MAILTO:blowingrocktours@gmail.com
END:VEVENT
BEGIN:VEVENT
DTSTART;TZID=America/Halifax:20270327T140000
DTEND;TZID=America/Halifax:20270327T170000
DTSTAMP:20260419T173255
CREATED:20260410T141718Z
LAST-MODIFIED:20260410T141718Z
UID:10005003-1806156000-1806166800@blowingrock.com
SUMMARY:Blowing Rock Food & Wine Tour
DESCRIPTION:Taste and sip your way around one of the most charming mountain villages you’ll ever experience – Blowing Rock\, North Carolina. \nExpert guides will lead you to all the best restaurants\, while exploring local art and history along the way. \nWebsite
URL:https://blowingrock.com/event/blowing-rock-food-wine-tour/2027-03-27/
LOCATION:NC
CATEGORIES:Educational,Featured,Food,Girls Getaways,History and Heritage,MAIN CALENDAR,Romantic Getaways,Spring,Summer
ATTACH;FMTTYPE=image/jpeg:https://blowingrock.com/wp-content/uploads/2026/04/brfoodwinetour-edited.jpg
ORGANIZER;CN="Blowing Rock Food & Wine Tours":MAILTO:blowingrocktours@gmail.com
END:VEVENT
END:VCALENDAR