BEGIN:VCALENDAR
VERSION:2.0
PRODID:-//Blowing Rock, NC - ECPv6.15.16//NONSGML v1.0//EN
CALSCALE:GREGORIAN
METHOD:PUBLISH
X-WR-CALNAME:Blowing Rock, NC
X-ORIGINAL-URL:https://blowingrock.com
X-WR-CALDESC:Events for Blowing Rock, NC
REFRESH-INTERVAL;VALUE=DURATION:PT1H
X-Robots-Tag:noindex
X-PUBLISHED-TTL:PT1H
BEGIN:VTIMEZONE
TZID:America/Halifax
BEGIN:DAYLIGHT
TZOFFSETFROM:-0400
TZOFFSETTO:-0300
TZNAME:ADT
DTSTART:20260308T060000
END:DAYLIGHT
BEGIN:STANDARD
TZOFFSETFROM:-0300
TZOFFSETTO:-0400
TZNAME:AST
DTSTART:20261101T050000
END:STANDARD
BEGIN:DAYLIGHT
TZOFFSETFROM:-0400
TZOFFSETTO:-0300
TZNAME:ADT
DTSTART:20270314T060000
END:DAYLIGHT
BEGIN:STANDARD
TZOFFSETFROM:-0300
TZOFFSETTO:-0400
TZNAME:AST
DTSTART:20271107T050000
END:STANDARD
BEGIN:DAYLIGHT
TZOFFSETFROM:-0400
TZOFFSETTO:-0300
TZNAME:ADT
DTSTART:20280312T060000
END:DAYLIGHT
BEGIN:STANDARD
TZOFFSETFROM:-0300
TZOFFSETTO:-0400
TZNAME:AST
DTSTART:20281105T050000
END:STANDARD
END:VTIMEZONE
BEGIN:VEVENT
DTSTART;TZID=America/Halifax:20270501T140000
DTEND;TZID=America/Halifax:20270501T170000
DTSTAMP:20260419T234510
CREATED:20260410T141718Z
LAST-MODIFIED:20260410T141718Z
UID:10005018-1809180000-1809190800@blowingrock.com
SUMMARY:Blowing Rock Food & Wine Tour
DESCRIPTION:Taste and sip your way around one of the most charming mountain villages you’ll ever experience – Blowing Rock\, North Carolina. \nExpert guides will lead you to all the best restaurants\, while exploring local art and history along the way. \nWebsite
URL:https://blowingrock.com/event/blowing-rock-food-wine-tour/2027-05-01/
LOCATION:NC
CATEGORIES:Educational,Featured,Food,Girls Getaways,History and Heritage,MAIN CALENDAR,Romantic Getaways,Spring,Summer
ATTACH;FMTTYPE=image/jpeg:https://blowingrock.com/wp-content/uploads/2026/04/brfoodwinetour-edited.jpg
ORGANIZER;CN="Blowing Rock Food & Wine Tours":MAILTO:blowingrocktours@gmail.com
END:VEVENT
BEGIN:VEVENT
DTSTART;TZID=America/Halifax:20270506T140000
DTEND;TZID=America/Halifax:20270506T170000
DTSTAMP:20260419T234510
CREATED:20260410T141718Z
LAST-MODIFIED:20260410T141718Z
UID:10005019-1809612000-1809622800@blowingrock.com
SUMMARY:Blowing Rock Food & Wine Tour
DESCRIPTION:Taste and sip your way around one of the most charming mountain villages you’ll ever experience – Blowing Rock\, North Carolina. \nExpert guides will lead you to all the best restaurants\, while exploring local art and history along the way. \nWebsite
URL:https://blowingrock.com/event/blowing-rock-food-wine-tour/2027-05-06/
LOCATION:NC
CATEGORIES:Educational,Featured,Food,Girls Getaways,History and Heritage,MAIN CALENDAR,Romantic Getaways,Spring,Summer
ATTACH;FMTTYPE=image/jpeg:https://blowingrock.com/wp-content/uploads/2026/04/brfoodwinetour-edited.jpg
ORGANIZER;CN="Blowing Rock Food & Wine Tours":MAILTO:blowingrocktours@gmail.com
END:VEVENT
BEGIN:VEVENT
DTSTART;TZID=America/Halifax:20270507T140000
DTEND;TZID=America/Halifax:20270507T170000
DTSTAMP:20260419T234510
CREATED:20260410T141718Z
LAST-MODIFIED:20260410T141718Z
UID:10005020-1809698400-1809709200@blowingrock.com
SUMMARY:Blowing Rock Food & Wine Tour
DESCRIPTION:Taste and sip your way around one of the most charming mountain villages you’ll ever experience – Blowing Rock\, North Carolina. \nExpert guides will lead you to all the best restaurants\, while exploring local art and history along the way. \nWebsite
URL:https://blowingrock.com/event/blowing-rock-food-wine-tour/2027-05-07/
LOCATION:NC
CATEGORIES:Educational,Featured,Food,Girls Getaways,History and Heritage,MAIN CALENDAR,Romantic Getaways,Spring,Summer
ATTACH;FMTTYPE=image/jpeg:https://blowingrock.com/wp-content/uploads/2026/04/brfoodwinetour-edited.jpg
ORGANIZER;CN="Blowing Rock Food & Wine Tours":MAILTO:blowingrocktours@gmail.com
END:VEVENT
BEGIN:VEVENT
DTSTART;TZID=America/Halifax:20270508T140000
DTEND;TZID=America/Halifax:20270508T170000
DTSTAMP:20260419T234510
CREATED:20260410T141718Z
LAST-MODIFIED:20260410T141718Z
UID:10005021-1809784800-1809795600@blowingrock.com
SUMMARY:Blowing Rock Food & Wine Tour
DESCRIPTION:Taste and sip your way around one of the most charming mountain villages you’ll ever experience – Blowing Rock\, North Carolina. \nExpert guides will lead you to all the best restaurants\, while exploring local art and history along the way. \nWebsite
URL:https://blowingrock.com/event/blowing-rock-food-wine-tour/2027-05-08/
LOCATION:NC
CATEGORIES:Educational,Featured,Food,Girls Getaways,History and Heritage,MAIN CALENDAR,Romantic Getaways,Spring,Summer
ATTACH;FMTTYPE=image/jpeg:https://blowingrock.com/wp-content/uploads/2026/04/brfoodwinetour-edited.jpg
ORGANIZER;CN="Blowing Rock Food & Wine Tours":MAILTO:blowingrocktours@gmail.com
END:VEVENT
BEGIN:VEVENT
DTSTART;TZID=America/Halifax:20270513T140000
DTEND;TZID=America/Halifax:20270513T170000
DTSTAMP:20260419T234510
CREATED:20260410T141718Z
LAST-MODIFIED:20260410T141718Z
UID:10005022-1810216800-1810227600@blowingrock.com
SUMMARY:Blowing Rock Food & Wine Tour
DESCRIPTION:Taste and sip your way around one of the most charming mountain villages you’ll ever experience – Blowing Rock\, North Carolina. \nExpert guides will lead you to all the best restaurants\, while exploring local art and history along the way. \nWebsite
URL:https://blowingrock.com/event/blowing-rock-food-wine-tour/2027-05-13/
LOCATION:NC
CATEGORIES:Educational,Featured,Food,Girls Getaways,History and Heritage,MAIN CALENDAR,Romantic Getaways,Spring,Summer
ATTACH;FMTTYPE=image/jpeg:https://blowingrock.com/wp-content/uploads/2026/04/brfoodwinetour-edited.jpg
ORGANIZER;CN="Blowing Rock Food & Wine Tours":MAILTO:blowingrocktours@gmail.com
END:VEVENT
BEGIN:VEVENT
DTSTART;TZID=America/Halifax:20270514T140000
DTEND;TZID=America/Halifax:20270514T170000
DTSTAMP:20260419T234510
CREATED:20260410T141718Z
LAST-MODIFIED:20260410T141718Z
UID:10005023-1810303200-1810314000@blowingrock.com
SUMMARY:Blowing Rock Food & Wine Tour
DESCRIPTION:Taste and sip your way around one of the most charming mountain villages you’ll ever experience – Blowing Rock\, North Carolina. \nExpert guides will lead you to all the best restaurants\, while exploring local art and history along the way. \nWebsite
URL:https://blowingrock.com/event/blowing-rock-food-wine-tour/2027-05-14/
LOCATION:NC
CATEGORIES:Educational,Featured,Food,Girls Getaways,History and Heritage,MAIN CALENDAR,Romantic Getaways,Spring,Summer
ATTACH;FMTTYPE=image/jpeg:https://blowingrock.com/wp-content/uploads/2026/04/brfoodwinetour-edited.jpg
ORGANIZER;CN="Blowing Rock Food & Wine Tours":MAILTO:blowingrocktours@gmail.com
END:VEVENT
BEGIN:VEVENT
DTSTART;TZID=America/Halifax:20270515T140000
DTEND;TZID=America/Halifax:20270515T170000
DTSTAMP:20260419T234510
CREATED:20260410T141718Z
LAST-MODIFIED:20260410T141718Z
UID:10005024-1810389600-1810400400@blowingrock.com
SUMMARY:Blowing Rock Food & Wine Tour
DESCRIPTION:Taste and sip your way around one of the most charming mountain villages you’ll ever experience – Blowing Rock\, North Carolina. \nExpert guides will lead you to all the best restaurants\, while exploring local art and history along the way. \nWebsite
URL:https://blowingrock.com/event/blowing-rock-food-wine-tour/2027-05-15/
LOCATION:NC
CATEGORIES:Educational,Featured,Food,Girls Getaways,History and Heritage,MAIN CALENDAR,Romantic Getaways,Spring,Summer
ATTACH;FMTTYPE=image/jpeg:https://blowingrock.com/wp-content/uploads/2026/04/brfoodwinetour-edited.jpg
ORGANIZER;CN="Blowing Rock Food & Wine Tours":MAILTO:blowingrocktours@gmail.com
END:VEVENT
BEGIN:VEVENT
DTSTART;TZID=America/Halifax:20270520T140000
DTEND;TZID=America/Halifax:20270520T170000
DTSTAMP:20260419T234510
CREATED:20260410T141718Z
LAST-MODIFIED:20260410T141718Z
UID:10005025-1810821600-1810832400@blowingrock.com
SUMMARY:Blowing Rock Food & Wine Tour
DESCRIPTION:Taste and sip your way around one of the most charming mountain villages you’ll ever experience – Blowing Rock\, North Carolina. \nExpert guides will lead you to all the best restaurants\, while exploring local art and history along the way. \nWebsite
URL:https://blowingrock.com/event/blowing-rock-food-wine-tour/2027-05-20/
LOCATION:NC
CATEGORIES:Educational,Featured,Food,Girls Getaways,History and Heritage,MAIN CALENDAR,Romantic Getaways,Spring,Summer
ATTACH;FMTTYPE=image/jpeg:https://blowingrock.com/wp-content/uploads/2026/04/brfoodwinetour-edited.jpg
ORGANIZER;CN="Blowing Rock Food & Wine Tours":MAILTO:blowingrocktours@gmail.com
END:VEVENT
BEGIN:VEVENT
DTSTART;TZID=America/Halifax:20270521T140000
DTEND;TZID=America/Halifax:20270521T170000
DTSTAMP:20260419T234510
CREATED:20260410T141718Z
LAST-MODIFIED:20260410T141718Z
UID:10005026-1810908000-1810918800@blowingrock.com
SUMMARY:Blowing Rock Food & Wine Tour
DESCRIPTION:Taste and sip your way around one of the most charming mountain villages you’ll ever experience – Blowing Rock\, North Carolina. \nExpert guides will lead you to all the best restaurants\, while exploring local art and history along the way. \nWebsite
URL:https://blowingrock.com/event/blowing-rock-food-wine-tour/2027-05-21/
LOCATION:NC
CATEGORIES:Educational,Featured,Food,Girls Getaways,History and Heritage,MAIN CALENDAR,Romantic Getaways,Spring,Summer
ATTACH;FMTTYPE=image/jpeg:https://blowingrock.com/wp-content/uploads/2026/04/brfoodwinetour-edited.jpg
ORGANIZER;CN="Blowing Rock Food & Wine Tours":MAILTO:blowingrocktours@gmail.com
END:VEVENT
BEGIN:VEVENT
DTSTART;TZID=America/Halifax:20270522T140000
DTEND;TZID=America/Halifax:20270522T170000
DTSTAMP:20260419T234510
CREATED:20260410T141718Z
LAST-MODIFIED:20260410T141718Z
UID:10005027-1810994400-1811005200@blowingrock.com
SUMMARY:Blowing Rock Food & Wine Tour
DESCRIPTION:Taste and sip your way around one of the most charming mountain villages you’ll ever experience – Blowing Rock\, North Carolina. \nExpert guides will lead you to all the best restaurants\, while exploring local art and history along the way. \nWebsite
URL:https://blowingrock.com/event/blowing-rock-food-wine-tour/2027-05-22/
LOCATION:NC
CATEGORIES:Educational,Featured,Food,Girls Getaways,History and Heritage,MAIN CALENDAR,Romantic Getaways,Spring,Summer
ATTACH;FMTTYPE=image/jpeg:https://blowingrock.com/wp-content/uploads/2026/04/brfoodwinetour-edited.jpg
ORGANIZER;CN="Blowing Rock Food & Wine Tours":MAILTO:blowingrocktours@gmail.com
END:VEVENT
BEGIN:VEVENT
DTSTART;TZID=America/Halifax:20270527T140000
DTEND;TZID=America/Halifax:20270527T170000
DTSTAMP:20260419T234510
CREATED:20260410T141718Z
LAST-MODIFIED:20260410T141718Z
UID:10005028-1811426400-1811437200@blowingrock.com
SUMMARY:Blowing Rock Food & Wine Tour
DESCRIPTION:Taste and sip your way around one of the most charming mountain villages you’ll ever experience – Blowing Rock\, North Carolina. \nExpert guides will lead you to all the best restaurants\, while exploring local art and history along the way. \nWebsite
URL:https://blowingrock.com/event/blowing-rock-food-wine-tour/2027-05-27/
LOCATION:NC
CATEGORIES:Educational,Featured,Food,Girls Getaways,History and Heritage,MAIN CALENDAR,Romantic Getaways,Spring,Summer
ATTACH;FMTTYPE=image/jpeg:https://blowingrock.com/wp-content/uploads/2026/04/brfoodwinetour-edited.jpg
ORGANIZER;CN="Blowing Rock Food & Wine Tours":MAILTO:blowingrocktours@gmail.com
END:VEVENT
BEGIN:VEVENT
DTSTART;TZID=America/Halifax:20270528T140000
DTEND;TZID=America/Halifax:20270528T170000
DTSTAMP:20260419T234510
CREATED:20260410T141718Z
LAST-MODIFIED:20260410T141718Z
UID:10005029-1811512800-1811523600@blowingrock.com
SUMMARY:Blowing Rock Food & Wine Tour
DESCRIPTION:Taste and sip your way around one of the most charming mountain villages you’ll ever experience – Blowing Rock\, North Carolina. \nExpert guides will lead you to all the best restaurants\, while exploring local art and history along the way. \nWebsite
URL:https://blowingrock.com/event/blowing-rock-food-wine-tour/2027-05-28/
LOCATION:NC
CATEGORIES:Educational,Featured,Food,Girls Getaways,History and Heritage,MAIN CALENDAR,Romantic Getaways,Spring,Summer
ATTACH;FMTTYPE=image/jpeg:https://blowingrock.com/wp-content/uploads/2026/04/brfoodwinetour-edited.jpg
ORGANIZER;CN="Blowing Rock Food & Wine Tours":MAILTO:blowingrocktours@gmail.com
END:VEVENT
BEGIN:VEVENT
DTSTART;TZID=America/Halifax:20270529T140000
DTEND;TZID=America/Halifax:20270529T170000
DTSTAMP:20260419T234510
CREATED:20260410T141718Z
LAST-MODIFIED:20260410T141718Z
UID:10005030-1811599200-1811610000@blowingrock.com
SUMMARY:Blowing Rock Food & Wine Tour
DESCRIPTION:Taste and sip your way around one of the most charming mountain villages you’ll ever experience – Blowing Rock\, North Carolina. \nExpert guides will lead you to all the best restaurants\, while exploring local art and history along the way. \nWebsite
URL:https://blowingrock.com/event/blowing-rock-food-wine-tour/2027-05-29/
LOCATION:NC
CATEGORIES:Educational,Featured,Food,Girls Getaways,History and Heritage,MAIN CALENDAR,Romantic Getaways,Spring,Summer
ATTACH;FMTTYPE=image/jpeg:https://blowingrock.com/wp-content/uploads/2026/04/brfoodwinetour-edited.jpg
ORGANIZER;CN="Blowing Rock Food & Wine Tours":MAILTO:blowingrocktours@gmail.com
END:VEVENT
END:VCALENDAR