BEGIN:VCALENDAR
VERSION:2.0
PRODID:-//Blowing Rock, NC - ECPv6.15.16//NONSGML v1.0//EN
CALSCALE:GREGORIAN
METHOD:PUBLISH
X-WR-CALNAME:Blowing Rock, NC
X-ORIGINAL-URL:https://blowingrock.com
X-WR-CALDESC:Events for Blowing Rock, NC
REFRESH-INTERVAL;VALUE=DURATION:PT1H
X-Robots-Tag:noindex
X-PUBLISHED-TTL:PT1H
BEGIN:VTIMEZONE
TZID:America/Halifax
BEGIN:DAYLIGHT
TZOFFSETFROM:-0400
TZOFFSETTO:-0300
TZNAME:ADT
DTSTART:20260308T060000
END:DAYLIGHT
BEGIN:STANDARD
TZOFFSETFROM:-0300
TZOFFSETTO:-0400
TZNAME:AST
DTSTART:20261101T050000
END:STANDARD
BEGIN:DAYLIGHT
TZOFFSETFROM:-0400
TZOFFSETTO:-0300
TZNAME:ADT
DTSTART:20270314T060000
END:DAYLIGHT
BEGIN:STANDARD
TZOFFSETFROM:-0300
TZOFFSETTO:-0400
TZNAME:AST
DTSTART:20271107T050000
END:STANDARD
BEGIN:DAYLIGHT
TZOFFSETFROM:-0400
TZOFFSETTO:-0300
TZNAME:ADT
DTSTART:20280312T060000
END:DAYLIGHT
BEGIN:STANDARD
TZOFFSETFROM:-0300
TZOFFSETTO:-0400
TZNAME:AST
DTSTART:20281105T050000
END:STANDARD
END:VTIMEZONE
BEGIN:VEVENT
DTSTART;TZID=America/Halifax:20270701T140000
DTEND;TZID=America/Halifax:20270701T170000
DTSTAMP:20260424T092345
CREATED:20260410T141718Z
LAST-MODIFIED:20260410T141718Z
UID:10005043-1814450400-1814461200@blowingrock.com
SUMMARY:Blowing Rock Food & Wine Tour
DESCRIPTION:Taste and sip your way around one of the most charming mountain villages you’ll ever experience – Blowing Rock\, North Carolina. \nExpert guides will lead you to all the best restaurants\, while exploring local art and history along the way. \nWebsite
URL:https://blowingrock.com/event/blowing-rock-food-wine-tour/2027-07-01/
LOCATION:NC
CATEGORIES:Educational,Featured,Food,Girls Getaways,History and Heritage,MAIN CALENDAR,Romantic Getaways,Spring,Summer
ATTACH;FMTTYPE=image/jpeg:https://blowingrock.com/wp-content/uploads/2026/04/brfoodwinetour-edited.jpg
ORGANIZER;CN="Blowing Rock Food & Wine Tours":MAILTO:blowingrocktours@gmail.com
END:VEVENT
BEGIN:VEVENT
DTSTART;TZID=America/Halifax:20270702T140000
DTEND;TZID=America/Halifax:20270702T170000
DTSTAMP:20260424T092345
CREATED:20260410T141718Z
LAST-MODIFIED:20260410T141718Z
UID:10005044-1814536800-1814547600@blowingrock.com
SUMMARY:Blowing Rock Food & Wine Tour
DESCRIPTION:Taste and sip your way around one of the most charming mountain villages you’ll ever experience – Blowing Rock\, North Carolina. \nExpert guides will lead you to all the best restaurants\, while exploring local art and history along the way. \nWebsite
URL:https://blowingrock.com/event/blowing-rock-food-wine-tour/2027-07-02/
LOCATION:NC
CATEGORIES:Educational,Featured,Food,Girls Getaways,History and Heritage,MAIN CALENDAR,Romantic Getaways,Spring,Summer
ATTACH;FMTTYPE=image/jpeg:https://blowingrock.com/wp-content/uploads/2026/04/brfoodwinetour-edited.jpg
ORGANIZER;CN="Blowing Rock Food & Wine Tours":MAILTO:blowingrocktours@gmail.com
END:VEVENT
BEGIN:VEVENT
DTSTART;TZID=America/Halifax:20270703T140000
DTEND;TZID=America/Halifax:20270703T170000
DTSTAMP:20260424T092345
CREATED:20260410T141718Z
LAST-MODIFIED:20260410T141718Z
UID:10005045-1814623200-1814634000@blowingrock.com
SUMMARY:Blowing Rock Food & Wine Tour
DESCRIPTION:Taste and sip your way around one of the most charming mountain villages you’ll ever experience – Blowing Rock\, North Carolina. \nExpert guides will lead you to all the best restaurants\, while exploring local art and history along the way. \nWebsite
URL:https://blowingrock.com/event/blowing-rock-food-wine-tour/2027-07-03/
LOCATION:NC
CATEGORIES:Educational,Featured,Food,Girls Getaways,History and Heritage,MAIN CALENDAR,Romantic Getaways,Spring,Summer
ATTACH;FMTTYPE=image/jpeg:https://blowingrock.com/wp-content/uploads/2026/04/brfoodwinetour-edited.jpg
ORGANIZER;CN="Blowing Rock Food & Wine Tours":MAILTO:blowingrocktours@gmail.com
END:VEVENT
BEGIN:VEVENT
DTSTART;TZID=America/Halifax:20270708T140000
DTEND;TZID=America/Halifax:20270708T170000
DTSTAMP:20260424T092345
CREATED:20260410T141718Z
LAST-MODIFIED:20260410T141718Z
UID:10005046-1815055200-1815066000@blowingrock.com
SUMMARY:Blowing Rock Food & Wine Tour
DESCRIPTION:Taste and sip your way around one of the most charming mountain villages you’ll ever experience – Blowing Rock\, North Carolina. \nExpert guides will lead you to all the best restaurants\, while exploring local art and history along the way. \nWebsite
URL:https://blowingrock.com/event/blowing-rock-food-wine-tour/2027-07-08/
LOCATION:NC
CATEGORIES:Educational,Featured,Food,Girls Getaways,History and Heritage,MAIN CALENDAR,Romantic Getaways,Spring,Summer
ATTACH;FMTTYPE=image/jpeg:https://blowingrock.com/wp-content/uploads/2026/04/brfoodwinetour-edited.jpg
ORGANIZER;CN="Blowing Rock Food & Wine Tours":MAILTO:blowingrocktours@gmail.com
END:VEVENT
BEGIN:VEVENT
DTSTART;TZID=America/Halifax:20270709T140000
DTEND;TZID=America/Halifax:20270709T170000
DTSTAMP:20260424T092345
CREATED:20260410T141718Z
LAST-MODIFIED:20260410T141718Z
UID:10005047-1815141600-1815152400@blowingrock.com
SUMMARY:Blowing Rock Food & Wine Tour
DESCRIPTION:Taste and sip your way around one of the most charming mountain villages you’ll ever experience – Blowing Rock\, North Carolina. \nExpert guides will lead you to all the best restaurants\, while exploring local art and history along the way. \nWebsite
URL:https://blowingrock.com/event/blowing-rock-food-wine-tour/2027-07-09/
LOCATION:NC
CATEGORIES:Educational,Featured,Food,Girls Getaways,History and Heritage,MAIN CALENDAR,Romantic Getaways,Spring,Summer
ATTACH;FMTTYPE=image/jpeg:https://blowingrock.com/wp-content/uploads/2026/04/brfoodwinetour-edited.jpg
ORGANIZER;CN="Blowing Rock Food & Wine Tours":MAILTO:blowingrocktours@gmail.com
END:VEVENT
BEGIN:VEVENT
DTSTART;TZID=America/Halifax:20270710T140000
DTEND;TZID=America/Halifax:20270710T170000
DTSTAMP:20260424T092345
CREATED:20260410T141718Z
LAST-MODIFIED:20260410T141718Z
UID:10005048-1815228000-1815238800@blowingrock.com
SUMMARY:Blowing Rock Food & Wine Tour
DESCRIPTION:Taste and sip your way around one of the most charming mountain villages you’ll ever experience – Blowing Rock\, North Carolina. \nExpert guides will lead you to all the best restaurants\, while exploring local art and history along the way. \nWebsite
URL:https://blowingrock.com/event/blowing-rock-food-wine-tour/2027-07-10/
LOCATION:NC
CATEGORIES:Educational,Featured,Food,Girls Getaways,History and Heritage,MAIN CALENDAR,Romantic Getaways,Spring,Summer
ATTACH;FMTTYPE=image/jpeg:https://blowingrock.com/wp-content/uploads/2026/04/brfoodwinetour-edited.jpg
ORGANIZER;CN="Blowing Rock Food & Wine Tours":MAILTO:blowingrocktours@gmail.com
END:VEVENT
BEGIN:VEVENT
DTSTART;TZID=America/Halifax:20270715T140000
DTEND;TZID=America/Halifax:20270715T170000
DTSTAMP:20260424T092345
CREATED:20260410T141718Z
LAST-MODIFIED:20260410T141718Z
UID:10005049-1815660000-1815670800@blowingrock.com
SUMMARY:Blowing Rock Food & Wine Tour
DESCRIPTION:Taste and sip your way around one of the most charming mountain villages you’ll ever experience – Blowing Rock\, North Carolina. \nExpert guides will lead you to all the best restaurants\, while exploring local art and history along the way. \nWebsite
URL:https://blowingrock.com/event/blowing-rock-food-wine-tour/2027-07-15/
LOCATION:NC
CATEGORIES:Educational,Featured,Food,Girls Getaways,History and Heritage,MAIN CALENDAR,Romantic Getaways,Spring,Summer
ATTACH;FMTTYPE=image/jpeg:https://blowingrock.com/wp-content/uploads/2026/04/brfoodwinetour-edited.jpg
ORGANIZER;CN="Blowing Rock Food & Wine Tours":MAILTO:blowingrocktours@gmail.com
END:VEVENT
BEGIN:VEVENT
DTSTART;TZID=America/Halifax:20270716T140000
DTEND;TZID=America/Halifax:20270716T170000
DTSTAMP:20260424T092345
CREATED:20260410T141718Z
LAST-MODIFIED:20260410T141718Z
UID:10005050-1815746400-1815757200@blowingrock.com
SUMMARY:Blowing Rock Food & Wine Tour
DESCRIPTION:Taste and sip your way around one of the most charming mountain villages you’ll ever experience – Blowing Rock\, North Carolina. \nExpert guides will lead you to all the best restaurants\, while exploring local art and history along the way. \nWebsite
URL:https://blowingrock.com/event/blowing-rock-food-wine-tour/2027-07-16/
LOCATION:NC
CATEGORIES:Educational,Featured,Food,Girls Getaways,History and Heritage,MAIN CALENDAR,Romantic Getaways,Spring,Summer
ATTACH;FMTTYPE=image/jpeg:https://blowingrock.com/wp-content/uploads/2026/04/brfoodwinetour-edited.jpg
ORGANIZER;CN="Blowing Rock Food & Wine Tours":MAILTO:blowingrocktours@gmail.com
END:VEVENT
BEGIN:VEVENT
DTSTART;TZID=America/Halifax:20270717T140000
DTEND;TZID=America/Halifax:20270717T170000
DTSTAMP:20260424T092345
CREATED:20260410T141718Z
LAST-MODIFIED:20260410T141718Z
UID:10005051-1815832800-1815843600@blowingrock.com
SUMMARY:Blowing Rock Food & Wine Tour
DESCRIPTION:Taste and sip your way around one of the most charming mountain villages you’ll ever experience – Blowing Rock\, North Carolina. \nExpert guides will lead you to all the best restaurants\, while exploring local art and history along the way. \nWebsite
URL:https://blowingrock.com/event/blowing-rock-food-wine-tour/2027-07-17/
LOCATION:NC
CATEGORIES:Educational,Featured,Food,Girls Getaways,History and Heritage,MAIN CALENDAR,Romantic Getaways,Spring,Summer
ATTACH;FMTTYPE=image/jpeg:https://blowingrock.com/wp-content/uploads/2026/04/brfoodwinetour-edited.jpg
ORGANIZER;CN="Blowing Rock Food & Wine Tours":MAILTO:blowingrocktours@gmail.com
END:VEVENT
BEGIN:VEVENT
DTSTART;TZID=America/Halifax:20270722T140000
DTEND;TZID=America/Halifax:20270722T170000
DTSTAMP:20260424T092345
CREATED:20260410T141718Z
LAST-MODIFIED:20260410T141718Z
UID:10005052-1816264800-1816275600@blowingrock.com
SUMMARY:Blowing Rock Food & Wine Tour
DESCRIPTION:Taste and sip your way around one of the most charming mountain villages you’ll ever experience – Blowing Rock\, North Carolina. \nExpert guides will lead you to all the best restaurants\, while exploring local art and history along the way. \nWebsite
URL:https://blowingrock.com/event/blowing-rock-food-wine-tour/2027-07-22/
LOCATION:NC
CATEGORIES:Educational,Featured,Food,Girls Getaways,History and Heritage,MAIN CALENDAR,Romantic Getaways,Spring,Summer
ATTACH;FMTTYPE=image/jpeg:https://blowingrock.com/wp-content/uploads/2026/04/brfoodwinetour-edited.jpg
ORGANIZER;CN="Blowing Rock Food & Wine Tours":MAILTO:blowingrocktours@gmail.com
END:VEVENT
BEGIN:VEVENT
DTSTART;TZID=America/Halifax:20270723T140000
DTEND;TZID=America/Halifax:20270723T170000
DTSTAMP:20260424T092345
CREATED:20260410T141718Z
LAST-MODIFIED:20260410T141718Z
UID:10005053-1816351200-1816362000@blowingrock.com
SUMMARY:Blowing Rock Food & Wine Tour
DESCRIPTION:Taste and sip your way around one of the most charming mountain villages you’ll ever experience – Blowing Rock\, North Carolina. \nExpert guides will lead you to all the best restaurants\, while exploring local art and history along the way. \nWebsite
URL:https://blowingrock.com/event/blowing-rock-food-wine-tour/2027-07-23/
LOCATION:NC
CATEGORIES:Educational,Featured,Food,Girls Getaways,History and Heritage,MAIN CALENDAR,Romantic Getaways,Spring,Summer
ATTACH;FMTTYPE=image/jpeg:https://blowingrock.com/wp-content/uploads/2026/04/brfoodwinetour-edited.jpg
ORGANIZER;CN="Blowing Rock Food & Wine Tours":MAILTO:blowingrocktours@gmail.com
END:VEVENT
BEGIN:VEVENT
DTSTART;TZID=America/Halifax:20270724T140000
DTEND;TZID=America/Halifax:20270724T170000
DTSTAMP:20260424T092345
CREATED:20260410T141718Z
LAST-MODIFIED:20260410T141718Z
UID:10005054-1816437600-1816448400@blowingrock.com
SUMMARY:Blowing Rock Food & Wine Tour
DESCRIPTION:Taste and sip your way around one of the most charming mountain villages you’ll ever experience – Blowing Rock\, North Carolina. \nExpert guides will lead you to all the best restaurants\, while exploring local art and history along the way. \nWebsite
URL:https://blowingrock.com/event/blowing-rock-food-wine-tour/2027-07-24/
LOCATION:NC
CATEGORIES:Educational,Featured,Food,Girls Getaways,History and Heritage,MAIN CALENDAR,Romantic Getaways,Spring,Summer
ATTACH;FMTTYPE=image/jpeg:https://blowingrock.com/wp-content/uploads/2026/04/brfoodwinetour-edited.jpg
ORGANIZER;CN="Blowing Rock Food & Wine Tours":MAILTO:blowingrocktours@gmail.com
END:VEVENT
BEGIN:VEVENT
DTSTART;TZID=America/Halifax:20270729T140000
DTEND;TZID=America/Halifax:20270729T170000
DTSTAMP:20260424T092345
CREATED:20260410T141718Z
LAST-MODIFIED:20260410T141718Z
UID:10005055-1816869600-1816880400@blowingrock.com
SUMMARY:Blowing Rock Food & Wine Tour
DESCRIPTION:Taste and sip your way around one of the most charming mountain villages you’ll ever experience – Blowing Rock\, North Carolina. \nExpert guides will lead you to all the best restaurants\, while exploring local art and history along the way. \nWebsite
URL:https://blowingrock.com/event/blowing-rock-food-wine-tour/2027-07-29/
LOCATION:NC
CATEGORIES:Educational,Featured,Food,Girls Getaways,History and Heritage,MAIN CALENDAR,Romantic Getaways,Spring,Summer
ATTACH;FMTTYPE=image/jpeg:https://blowingrock.com/wp-content/uploads/2026/04/brfoodwinetour-edited.jpg
ORGANIZER;CN="Blowing Rock Food & Wine Tours":MAILTO:blowingrocktours@gmail.com
END:VEVENT
BEGIN:VEVENT
DTSTART;TZID=America/Halifax:20270730T140000
DTEND;TZID=America/Halifax:20270730T170000
DTSTAMP:20260424T092345
CREATED:20260410T141718Z
LAST-MODIFIED:20260410T141718Z
UID:10005056-1816956000-1816966800@blowingrock.com
SUMMARY:Blowing Rock Food & Wine Tour
DESCRIPTION:Taste and sip your way around one of the most charming mountain villages you’ll ever experience – Blowing Rock\, North Carolina. \nExpert guides will lead you to all the best restaurants\, while exploring local art and history along the way. \nWebsite
URL:https://blowingrock.com/event/blowing-rock-food-wine-tour/2027-07-30/
LOCATION:NC
CATEGORIES:Educational,Featured,Food,Girls Getaways,History and Heritage,MAIN CALENDAR,Romantic Getaways,Spring,Summer
ATTACH;FMTTYPE=image/jpeg:https://blowingrock.com/wp-content/uploads/2026/04/brfoodwinetour-edited.jpg
ORGANIZER;CN="Blowing Rock Food & Wine Tours":MAILTO:blowingrocktours@gmail.com
END:VEVENT
BEGIN:VEVENT
DTSTART;TZID=America/Halifax:20270731T140000
DTEND;TZID=America/Halifax:20270731T170000
DTSTAMP:20260424T092345
CREATED:20260410T141718Z
LAST-MODIFIED:20260410T141718Z
UID:10005057-1817042400-1817053200@blowingrock.com
SUMMARY:Blowing Rock Food & Wine Tour
DESCRIPTION:Taste and sip your way around one of the most charming mountain villages you’ll ever experience – Blowing Rock\, North Carolina. \nExpert guides will lead you to all the best restaurants\, while exploring local art and history along the way. \nWebsite
URL:https://blowingrock.com/event/blowing-rock-food-wine-tour/2027-07-31/
LOCATION:NC
CATEGORIES:Educational,Featured,Food,Girls Getaways,History and Heritage,MAIN CALENDAR,Romantic Getaways,Spring,Summer
ATTACH;FMTTYPE=image/jpeg:https://blowingrock.com/wp-content/uploads/2026/04/brfoodwinetour-edited.jpg
ORGANIZER;CN="Blowing Rock Food & Wine Tours":MAILTO:blowingrocktours@gmail.com
END:VEVENT
END:VCALENDAR