BEGIN:VCALENDAR
VERSION:2.0
PRODID:-//Blowing Rock, NC - ECPv6.15.16//NONSGML v1.0//EN
CALSCALE:GREGORIAN
METHOD:PUBLISH
X-WR-CALNAME:Blowing Rock, NC
X-ORIGINAL-URL:https://blowingrock.com
X-WR-CALDESC:Events for Blowing Rock, NC
REFRESH-INTERVAL;VALUE=DURATION:PT1H
X-Robots-Tag:noindex
X-PUBLISHED-TTL:PT1H
BEGIN:VTIMEZONE
TZID:America/Halifax
BEGIN:DAYLIGHT
TZOFFSETFROM:-0400
TZOFFSETTO:-0300
TZNAME:ADT
DTSTART:20250309T060000
END:DAYLIGHT
BEGIN:STANDARD
TZOFFSETFROM:-0300
TZOFFSETTO:-0400
TZNAME:AST
DTSTART:20251102T050000
END:STANDARD
BEGIN:DAYLIGHT
TZOFFSETFROM:-0400
TZOFFSETTO:-0300
TZNAME:ADT
DTSTART:20260308T060000
END:DAYLIGHT
BEGIN:STANDARD
TZOFFSETFROM:-0300
TZOFFSETTO:-0400
TZNAME:AST
DTSTART:20261101T050000
END:STANDARD
BEGIN:DAYLIGHT
TZOFFSETFROM:-0400
TZOFFSETTO:-0300
TZNAME:ADT
DTSTART:20270314T060000
END:DAYLIGHT
BEGIN:STANDARD
TZOFFSETFROM:-0300
TZOFFSETTO:-0400
TZNAME:AST
DTSTART:20271107T050000
END:STANDARD
END:VTIMEZONE
BEGIN:VEVENT
DTSTART;TZID=America/Halifax:20260508T173000
DTEND;TZID=America/Halifax:20260508T203000
DTSTAMP:20260424T093433
CREATED:20260413T141029Z
LAST-MODIFIED:20260413T174619Z
UID:10004569-1778261400-1778272200@blowingrock.com
SUMMARY:Music on the Lawn
DESCRIPTION:“Music on the Lawn” at The Inn at Ragged Gardens has become a much beloved outdoor concert series. Held each Friday from May through September (weather permitting)\, the event draws locals and visitors alike. It has grown in popularity over the years and attendance in the hundreds can be expected. A different band is featured every week and performances are from 5:30 until 8:30. A cash bar and lawn menu are available. \nThere is no charge for the concerts and guests are encouraged to bring a lawn chair and arrive early to secure a spot on the lawn. Please no pets\, coolers or outside food and beverage. Each week a private non-profit organization is featured to educate and inform the public about their cause. \nWebsite
URL:https://blowingrock.com/event/music-on-the-lawn-2-2/
LOCATION:Inn At Ragged Gardens\, 203 Sunset Drive\, Blowing Rock\, NC\, 28605
CATEGORIES:Family,Featured,Girls Getaways,MAIN CALENDAR,Music,Romantic Getaways,Spring,Summer
ATTACH;FMTTYPE=image/jpeg:https://blowingrock.com/wp-content/uploads/2021/05/musiconlawn-Hymq5o.tmp_-e1719078055256.jpg
END:VEVENT
BEGIN:VEVENT
DTSTART;TZID=America/Halifax:20260517T130000
DTEND;TZID=America/Halifax:20260517T150000
DTSTAMP:20260424T093433
CREATED:20260303T143140Z
LAST-MODIFIED:20260303T162845Z
UID:10000877-1779022800-1779030000@blowingrock.com
SUMMARY:Alair Concert in the Park
DESCRIPTION:Mark your calendars for the 2026 Alair Homes High Country Summer Concert Series! Hosted in Downtown Blowing Rock at Memorial Park\, this year’s concert series is a fundraiser for @HungerHealthCoalition’s A Simple Gesture Program. \nFrom 1-3 PM\, bring your family and friends to enjoy some great live music and to support the High Country community!  \nWebsite
URL:https://blowingrock.com/event/concert-in-the-park/
LOCATION:Memorial Park\, 1036 Main Street\, Blowing Rock\, NC\, 28605\, United States
CATEGORIES:Arts,Family,Featured,MAIN CALENDAR,Music,Summer
ATTACH;FMTTYPE=image/jpeg:https://blowingrock.com/wp-content/uploads/2021/05/concertinthepark-BD4UBh.tmp_.jpg
END:VEVENT
BEGIN:VEVENT
DTSTART;TZID=America/Halifax:20260521T110000
DTEND;TZID=America/Halifax:20260521T120000
DTSTAMP:20260424T093433
CREATED:20260413T152535Z
LAST-MODIFIED:20260413T152535Z
UID:10005083-1779361200-1779364800@blowingrock.com
SUMMARY:Behind the Music "Here Rests in Honored Glory"
DESCRIPTION:In honor of Memorial Day\, BRAHM is offering this program FREE to the public. \nComposer Donald Miller will tell us the story of creating what would become the official hymn of remembrance for the Paralyzed Veterans of America and Vietnam Veterans of America. \nComposed in 1986\, “Here Rests in Honored Glory\,” has been performed in Arlington National Cemetery Amphitheater\, the Vietnam Wall\, the United States Naval Academy\, Annapolis\, MD. \nWebsite
URL:https://blowingrock.com/event/behind-the-music-here-rests-in-honored-glory/
LOCATION:Blowing Rock Art & History Museum\, 159 Ginny Stevens Lane\, Blowing Rock\, NC\, 28605\, United States
CATEGORIES:Educational,MAIN CALENDAR,Music,Night Events,Spring
ATTACH;FMTTYPE=image/jpeg:https://blowingrock.com/wp-content/uploads/2026/04/brahmexterior.jpg
END:VEVENT
BEGIN:VEVENT
DTSTART;TZID=America/Halifax:20260528T173000
DTEND;TZID=America/Halifax:20260528T193000
DTSTAMP:20260424T093433
CREATED:20260310T151515Z
LAST-MODIFIED:20260310T151515Z
UID:10004815-1779989400-1779996600@blowingrock.com
SUMMARY:Roots in the Garden Summer Concert Series
DESCRIPTION:Head over to Daniel Boone Native Garden for the free\, family-friendly Roots in the Garden concert series! Concerts will run from 5:30 to 7:30 p.m. and will also feature visual artists. \nDates: May 28\, June 18\, July 2\, July 30\, Aug. 20 \nBeer and wine will be available for purchase. Picnics are welcome\, and we will have food trucks as well. Please note\, no dogs or glass containers in the Gardens. \nAll proceeds will support the Gardens’ mission to provide education to the public about native plants; conserve the plants in our collection; and encourage environmental stewardship through beautification\, restoration\, sustainability\, and the conservation of natural resources. \nWebsite
URL:https://blowingrock.com/event/roots-in-the-garden-summer-concert-series/2026-05-28/
LOCATION:Daniel Boone Native Gardens\, 651 Horn In The West Dr.\, Boone\, NC\, 28607\, United States
CATEGORIES:Arts,Girls Getaways,MAIN CALENDAR,Music,Recreation/Outdoors,Romantic Getaways,Summer
ATTACH;FMTTYPE=image/webp:https://blowingrock.com/wp-content/uploads/2026/03/danielnativegate.webp
END:VEVENT
BEGIN:VEVENT
DTSTART;TZID=America/Halifax:20260614T130000
DTEND;TZID=America/Halifax:20260614T150000
DTSTAMP:20260424T093433
CREATED:20260303T145823Z
LAST-MODIFIED:20260303T163201Z
UID:10000959-1781442000-1781449200@blowingrock.com
SUMMARY:Alair Concert in the Park
DESCRIPTION:Mark your calendars for the 2026 Alair Homes High Country Summer Concert Series! Hosted in Downtown Blowing Rock at Memorial Park\, this year’s concert series benefits @HungerHealthCoalition’s A Simple Gesture Program. \nFrom 1-3 PM\, bring your family and friends to enjoy some great live music and to support the High Country community! \nWebsite
URL:https://blowingrock.com/event/concert-in-the-park-2/
LOCATION:Memorial Park\, 1036 Main Street\, Blowing Rock\, NC\, 28605\, United States
CATEGORIES:Family,MAIN CALENDAR,Music,Summer
ATTACH;FMTTYPE=image/jpeg:https://blowingrock.com/wp-content/uploads/2021/05/concertinthepark-BD4UBh.tmp_.jpg
END:VEVENT
BEGIN:VEVENT
DTSTART;TZID=America/Halifax:20260704T100000
DTEND;TZID=America/Halifax:20260704T160000
DTSTAMP:20260424T093433
CREATED:20260303T143821Z
LAST-MODIFIED:20260303T153910Z
UID:10000975-1783159200-1783180800@blowingrock.com
SUMMARY:4th of July Parade & Festival
DESCRIPTION:The best small-town holiday parade around! Come early for the parade and enjoy the festive atmosphere in town for the afternoon with games and music in Memorial Park! \n*note* Main Street will not have parking available on the morning of the parade\, to allow more space and visibility for spectators! Parking will re-open just after the parade’s end. \nWebsite
URL:https://blowingrock.com/event/4th-of-july-parade/
LOCATION:Downtown Blowing Rock\, 132 Park Avenue\, Blowing Rock\, NC\, 28605\, United States
CATEGORIES:Attractions,Family,Featured,July 4th,MAIN CALENDAR,Music,Summer
ATTACH;FMTTYPE=image/jpeg:https://blowingrock.com/wp-content/uploads/2021/05/4th20354-cOrsja.tmp_-scaled.jpg
END:VEVENT
BEGIN:VEVENT
DTSTART;TZID=America/Halifax:20260706T183000
DTEND;TZID=America/Halifax:20260706T203000
DTSTAMP:20260424T093433
CREATED:20260303T160000Z
LAST-MODIFIED:20260303T160410Z
UID:10004809-1783362600-1783369800@blowingrock.com
SUMMARY:Monday Night Concert Series
DESCRIPTION:The first concert of the series is held on July 6\, 2026 and runs through August 3\, 2026. The concerts are located at 173 Lakeside Dr. Blowing Rock\, NC 28605 and are set up in the gazebo at Broyhill Park. They begin at 6:30 pm\, run approximately one to two hours\, and are free and open to the public. Performances will cover a little bit of everything from jazz\, to country\, to show tunes. Attendees will want to bring lawn chairs or blankets for seating comfort. \n2026 Concert Line Up!\nJuly 6 – Scarlet Lemonade Band\nJuly 13 – Steve Sensenig\nJuly 20 – 3 Toe Possum \nJuly 27 – Carmen Tate\nAug. 3 – Surefire\n \nPlease note that the lineup is subject to change. 
URL:https://blowingrock.com/event/monday-night-concert-series-2/2026-07-06/
LOCATION:Broyhill Park\, 173 Lakeside Drive\, Blowing Rock\, NC\, 28605
CATEGORIES:Arts,MAIN CALENDAR,Music,Night Events,Summer
ATTACH;FMTTYPE=image/jpeg:https://blowingrock.com/wp-content/uploads/2022/06/Monday-Night-Concert-Series.jpg
END:VEVENT
BEGIN:VEVENT
DTSTART;TZID=America/Halifax:20260709T080000
DTEND;TZID=America/Halifax:20260712T160000
DTSTAMP:20260424T093433
CREATED:20260303T140902Z
LAST-MODIFIED:20260303T154724Z
UID:10001505-1783584000-1783872000@blowingrock.com
SUMMARY:Grandfather Mountain Highland Games
DESCRIPTION:Blaring bagpipes\, astounding athletes\, delicate dancers\, rocking Celtic music and a spectacular highland setting makes this colorful celebration of Scottish culture the best highland games in America. Admission charged. \nWebsite
URL:https://blowingrock.com/event/grandfather-mountain-highland-games-2/
LOCATION:Grandfather Mountain\, 2050 Blowing Rock Highway\, Linville\, NC\, 28646
CATEGORIES:Attractions,Family,Girls Getaways,History and Heritage,MAIN CALENDAR,Music,Recreation/Outdoors,Romantic Getaways,Summer
ATTACH;FMTTYPE=image/jpeg:https://blowingrock.com/wp-content/uploads/2023/02/Highland-Games.jpg
END:VEVENT
BEGIN:VEVENT
DTSTART;TZID=America/Halifax:20260717T190000
DTEND;TZID=America/Halifax:20260717T220000
DTSTAMP:20260424T093433
CREATED:20260303T140504Z
LAST-MODIFIED:20260413T193355Z
UID:10002210-1784314800-1784325600@blowingrock.com
SUMMARY:Symphony
DESCRIPTION:A night under the stars filled with pop and orchestral music. Firework Finale! \nWebsite
URL:https://blowingrock.com/event/symphony/
LOCATION:Chetola Resort’s Lakeside Tent\, 185 Chetola Lake Drive\, Blowing Rock\, NC\, 28605\, United States
CATEGORIES:Arts,Attractions,Featured,MAIN CALENDAR,Music,Recreation/Outdoors,Summer
ATTACH;FMTTYPE=image/jpeg:https://blowingrock.com/wp-content/uploads/2022/06/Symphony-with-fireworks.jpg
END:VEVENT
BEGIN:VEVENT
DTSTART;TZID=America/Halifax:20260719T130000
DTEND;TZID=America/Halifax:20260719T150000
DTSTAMP:20260424T093433
CREATED:20250214T150213Z
LAST-MODIFIED:20260303T163833Z
UID:10000994-1784466000-1784473200@blowingrock.com
SUMMARY:Alair Concert in the Park
DESCRIPTION:Mark your calendars for the 2026 Alair Homes High Country Summer Concert Series! Hosted in Downtown Blowing Rock at Memorial Park\, this year’s concert series benefits @HungerHealthCoalition’s A Simple Gesture Program. \nFrom 1-3 PM\, bring your family and friends to enjoy some great live music and to support the High Country community!  \nWebsite
URL:https://blowingrock.com/event/concert-in-the-park-3/
LOCATION:Memorial Park\, 1036 Main Street\, Blowing Rock\, NC\, 28605\, United States
CATEGORIES:Arts,Featured,Girls Getaways,MAIN CALENDAR,Music,Romantic Getaways,Summer
ATTACH;FMTTYPE=image/jpeg:https://blowingrock.com/wp-content/uploads/2021/05/concertinthepark-BD4UBh.tmp_.jpg
END:VEVENT
BEGIN:VEVENT
DTSTART;TZID=America/Halifax:20260808T120000
DTEND;TZID=America/Halifax:20260808T150000
DTSTAMP:20260424T093433
CREATED:20260302T134234Z
LAST-MODIFIED:20260302T190721Z
UID:10004805-1786190400-1786201200@blowingrock.com
SUMMARY:Riders in the Sky
DESCRIPTION:For more than 40 years\, The Riders In The Sky have been entertaining audiences of all ages\, from the Grand Ole Opry to “Woody’s Roundup” in the movie “Toy Story 2.”\, including two albums\, both of which won GRAMMY Awards! \nChildren love this interactive musical show\, parents enjoy the cowboy humor\, and grandparents appreciate the nostalgic Western tunes. This is one of our most popular multi-generational events. \n\nTwo shows daily at 12:00 noon & 3:00 p.m. in the Hacienda area.\nSeating is first-come\, first-served\nThe band members will be available after the show to meet Guests and sign autographs.\n\nWebsite
URL:https://blowingrock.com/event/riders-in-the-sky/2026-08-08/
LOCATION:Tweetsie Railroad\, 300 Tweetsie Railroad Lane\, Blowing Rock\, NC\, 28605\, United States
CATEGORIES:Attractions,Family,MAIN CALENDAR,Music,Summer
ATTACH;FMTTYPE=image/jpeg:https://blowingrock.com/wp-content/uploads/2023/02/Riders-In-The-Sky.jpg
END:VEVENT
BEGIN:VEVENT
DTSTART;TZID=America/Halifax:20260816T130000
DTEND;TZID=America/Halifax:20260816T150000
DTSTAMP:20260424T093433
CREATED:20260303T150633Z
LAST-MODIFIED:20260303T164356Z
UID:10001019-1786885200-1786892400@blowingrock.com
SUMMARY:Alair Concert in the Park
DESCRIPTION:Mark your calendars for the 2026 Alair Homes High Country Summer Concert Series! Hosted in Downtown Blowing Rock at Memorial Park\, this year’s concert series benefits @HungerHealthCoalition’s A Simple Gesture Program. \nFrom 1-3 PM\, bring your family and friends to enjoy some great live music and to support the High Country community!  \nWebsite
URL:https://blowingrock.com/event/concert-in-the-park-4/
LOCATION:Memorial Park\, 1036 Main Street\, Blowing Rock\, NC\, 28605\, United States
CATEGORIES:Arts,Family,Featured,Girls Getaways,MAIN CALENDAR,Music,Romantic Getaways,Summer
ATTACH;FMTTYPE=image/jpeg:https://blowingrock.com/wp-content/uploads/2021/05/concertinthepark-BD4UBh.tmp_.jpg
END:VEVENT
BEGIN:VEVENT
DTSTART;TZID=America/Halifax:20260913T130000
DTEND;TZID=America/Halifax:20260913T150000
DTSTAMP:20260424T093433
CREATED:20260303T165012Z
LAST-MODIFIED:20260303T165012Z
UID:10004814-1789304400-1789311600@blowingrock.com
SUMMARY:Alair Concert in the Park
DESCRIPTION:Mark your calendars for the 2026 Alair Homes High Country Summer Concert Series! Hosted in Downtown Blowing Rock at Memorial Park\, this year’s concert series benefits @HungerHealthCoalition’s A Simple Gesture Program. \nFrom 1-3 PM\, bring your family and friends to enjoy some great live music and to support the High Country community!  \nWebsite
URL:https://blowingrock.com/event/alair-concert-in-the-park/
LOCATION:NC
CATEGORIES:Arts,Family,Featured,Girls Getaways,MAIN CALENDAR,Music,Romantic Getaways,Summer
ATTACH;FMTTYPE=image/jpeg:https://blowingrock.com/wp-content/uploads/2021/05/concertinthepark-BD4UBh.tmp_.jpg
END:VEVENT
END:VCALENDAR