BEGIN:VCALENDAR
VERSION:2.0
PRODID:-//Blowing Rock, NC - ECPv6.15.16//NONSGML v1.0//EN
CALSCALE:GREGORIAN
METHOD:PUBLISH
X-WR-CALNAME:Blowing Rock, NC
X-ORIGINAL-URL:https://blowingrock.com
X-WR-CALDESC:Events for Blowing Rock, NC
REFRESH-INTERVAL;VALUE=DURATION:PT1H
X-Robots-Tag:noindex
X-PUBLISHED-TTL:PT1H
BEGIN:VTIMEZONE
TZID:America/Halifax
BEGIN:DAYLIGHT
TZOFFSETFROM:-0400
TZOFFSETTO:-0300
TZNAME:ADT
DTSTART:20240310T060000
END:DAYLIGHT
BEGIN:STANDARD
TZOFFSETFROM:-0300
TZOFFSETTO:-0400
TZNAME:AST
DTSTART:20241103T050000
END:STANDARD
BEGIN:DAYLIGHT
TZOFFSETFROM:-0400
TZOFFSETTO:-0300
TZNAME:ADT
DTSTART:20250309T060000
END:DAYLIGHT
BEGIN:STANDARD
TZOFFSETFROM:-0300
TZOFFSETTO:-0400
TZNAME:AST
DTSTART:20251102T050000
END:STANDARD
BEGIN:DAYLIGHT
TZOFFSETFROM:-0400
TZOFFSETTO:-0300
TZNAME:ADT
DTSTART:20260308T060000
END:DAYLIGHT
BEGIN:STANDARD
TZOFFSETFROM:-0300
TZOFFSETTO:-0400
TZNAME:AST
DTSTART:20261101T050000
END:STANDARD
END:VTIMEZONE
BEGIN:VEVENT
DTSTART;TZID=America/Halifax:20251205T100000
DTEND;TZID=America/Halifax:20251206T170000
DTSTAMP:20260425T204325
CREATED:20250919T145820Z
LAST-MODIFIED:20251030T152725Z
UID:10004618-1764928800-1765040400@blowingrock.com
SUMMARY:Artisan Holiday Market
DESCRIPTION:The Mustard Seed Market is pleased to present its 6th Annual Artisan Holiday Market this December. The Artisan Holiday Market will take place on the Mustard Seed Market’s flagship location Friday and Saturday\, December 5th and 6th\, from 10 AM to 5 PM. “This year\, we hope to give even more local vendors a platform to showcase their art to our clientele while offering our curated holiday selection at the Market shop\,” says Mustard Seed Market Co-founder Danielle Stewart. “Our goal is to offer a fun and easy shopping experience for unique gifts\, stocking stuffers\, and decorations to fit every home atmosphere while also supporting our local artists.” \nWebsite \n 
URL:https://blowingrock.com/event/artisan-holiday-market/
LOCATION:NC
CATEGORIES:Christmas,Featured,HOLIDAYS,MAIN CALENDAR,Shopping,Winter
ATTACH;FMTTYPE=image/jpeg:https://blowingrock.com/wp-content/uploads/2025/09/msmarketholiday.jpg
END:VEVENT
BEGIN:VEVENT
DTSTART;TZID=America/Halifax:20251212T170000
DTEND;TZID=America/Halifax:20251212T210000
DTSTAMP:20260425T204325
CREATED:20251006T154005Z
LAST-MODIFIED:20251030T152651Z
UID:10001843-1765558800-1765573200@blowingrock.com
SUMMARY:Blowing Rock Holiday Stroll
DESCRIPTION:Join us in Blowing Rock for the Holiday Stroll\, a celebration of winter and the Christmas season in December. It’s like a town-wide holiday open house! Shops are open late\, and a number of special guests and activities will make the glowing streets even more festive. \nWebsite
URL:https://blowingrock.com/event/blowing-rock-holiday-stroll/
LOCATION:Downtown Blowing Rock\, 132 Park Avenue\, Blowing Rock\, NC\, 28605\, United States
CATEGORIES:Christmas,Family,Featured,HOLIDAYS,MAIN CALENDAR,Shopping,Winter
ATTACH;FMTTYPE=image/jpeg:https://blowingrock.com/wp-content/uploads/2023/11/Holiday-Stroll.jpg
END:VEVENT
END:VCALENDAR